BEGIN:VCALENDAR
PRODID:NingEventWidget-v1
VERSION:2.0
METHOD:PUBLISH
BEGIN:VEVENT
UID:1171189:Event:51685
DTSTAMP:20260421T201820Z
SUMMARY:1 Million Pillowcase Challenge to Support The Home for Little 
 Wanderers
DESCRIPTION:An Etsy Craft Party: 1 Million Pillowcase Challenge!!\n\nC
 alling all quilters, sewers and crafters of all skill levels! American
  Patchwork & Quilting, Etsy, and Meetup are challenging you to join ou
 r efforts to Make a Pillowcase, Make a Difference.\n\nMake a pillowcas
 e to give and one to keep! Your special pillowcase can provide comfort
  for children at The Home For Little Wanderers.\n\nMichelle Jones of H
 oosier Magnolia will be on hand to offer instruction. We'll provide se
 wing machines, scissors, patterns, pins and thread as well as gorgeous
  designer fabric for sale at great prices. All you need to bring is yo
 urself and maybe some friends. =)\n\nPillowcases are a great first sew
 ing project, as well as a jumping off point for experts!\n\nCheck out:
 \n\nhttp://www.allpeopleq...\nhttp://www.meetup.com...\nhttp://www.ets
 y.com/s...\n\nFor more information visit http://neighborsforneighbors.
 org/events/1-million-pillowcase-challenge
DTSTART:20100826T220000Z
DTEND:20100827T010000Z
CATEGORIES:supporting, community
LOCATION:Colorwheel Collection
WEBSITE:http://www.meetup.com/Shes-Crafty-Boston/calendar/14117539/
URL:http://www.meetup.com/Shes-Crafty-Boston/calendar/14117539/
CONTACT:
ORGANIZER:Meg Skaar
ATTACH;FMTTYPE="image/jpeg":http://storage.ning.com/topology/rest/1.0/
 file/get/2245130888?profile=original
ATTENDEE;ROLE=REQ-PARTICIPANT;PARTSTAT=ACCEPTED;RSVP=TRUE;CN="Lisa Nie
 ves":http://neighborsforneighbors.org/profile/LisaNieves
END:VEVENT
END:VCALENDAR
