BEGIN:VCALENDAR
PRODID:NingEventWidget-v1
VERSION:2.0
METHOD:PUBLISH
BEGIN:VEVENT
UID:1171189:Event:37629
DTSTAMP:20260421T214908Z
SUMMARY:1st Open House Sunday March 14, 11-3: 48 Prince St, #2, Jamaic
 a Plain
DESCRIPTION:1st open house on Sunday, March 14 from 11-3. 5-bed, charm
 ing Pondside condo offered at $629,000. Please come and have a look.Ou
 r MLS number is: 7103141. You can also see our listing at:\nhttp://www
 .postlets.com/repb/3488129\nTo arrange viewing outside the open house 
 call Cheryl 857 919 4365.\n\nFor more information visit http://neighbo
 rsforneighbors.org/events/1st-open-house-sunday-march-14
DTSTART:20100314T150000Z
DTEND:20100314T190000Z
CATEGORIES:open, house, -, condo, for, sale
LOCATION:48 Prince Street, #2 Jamaica Plain
WEBSITE:http://www.postlets.com/repb/3488129
URL:http://www.postlets.com/repb/3488129
CONTACT:8579194365
ORGANIZER;CN="Cheryl Duffield":http://neighborsforneighbors.org/profil
 e/CherylDuffield702
ATTACH;FMTTYPE="image/jpeg":
ATTENDEE;ROLE=REQ-PARTICIPANT;PARTSTAT=ACCEPTED;RSVP=TRUE;CN="Cheryl D
 uffield":http://neighborsforneighbors.org/profile/CherylDuffield702
END:VEVENT
END:VCALENDAR
