BEGIN:VCALENDAR
PRODID:NingEventWidget-v1
VERSION:2.0
METHOD:PUBLISH
BEGIN:VEVENT
UID:1171189:Event:75081
DTSTAMP:20260421T202900Z
SUMMARY:2011 Boston Arthritis Walk
DESCRIPTION:The 15th Anniversary Boston Arthritis Walk will take place
  on Sunday, September 18, 2011, at the DCR’s Artesani Park in Bright
 on, MA. Registration opens at 10:30 a.m. and the walk will kick off at
  noon. Walkers have the choice of a 1 mile or 3 mile route. Stick arou
 nd following the walk for our post-walk celebration with food, enterta
 inment, and fun for the whole family! The Arthritis Walk® is the Arth
 ritis Foundation’s annual nationwide signature event that raises awa
 reness and funds to fight arthritis, the nation’s most common cause 
 of disability. It is a tremendous opportunity to help improve the live
 s of the 50 million men, women and children doctor-diagnosed with arth
 ritis. Get your company involved or recruit friends and family members
  to form a team or walk as an individual. Best of all, walk in honor o
 f a loved one with arthritis and know you’re making a difference by 
 raising funds to support Arthritis Foundation research, public health 
 and public policy efforts to improve the lives of people with arthriti
 s.\n \n\nFor more information visit http://neighborsforneighbors.org/
 events/2011-boston-arthritis-walk
DTSTART:20110918T143000Z
DTEND:20110918T180000Z
CATEGORIES:fundraising
LOCATION:DCR's Artesani Park
WEBSITE:http://www.bostonarthritiswalk.org
URL:http://www.bostonarthritiswalk.org
CONTACT:617-219-8221
ORGANIZER;CN="Robin Maxcy":http://neighborsforneighbors.org/profile/Ro
 binMaxcy
ATTACH;FMTTYPE="image/jpeg":http://storage.ning.com/topology/rest/1.0/
 file/get/2245139490?profile=original
ATTENDEE;ROLE=REQ-PARTICIPANT;PARTSTAT=ACCEPTED;RSVP=TRUE;CN="Robin Ma
 xcy":http://neighborsforneighbors.org/profile/RobinMaxcy
END:VEVENT
END:VCALENDAR
