BEGIN:VCALENDAR
PRODID:NingEventWidget-v1
VERSION:2.0
METHOD:PUBLISH
BEGIN:VEVENT
UID:1171189:Event:90194
DTSTAMP:20260422T031929Z
SUMMARY:2012 Boston Arthritis Walk
DESCRIPTION:The 2012 Boston Arthritis Walk will take place on Sunday, 
 September 16, 2012, at the DCR’s Artesani Park in Brighton, MA. Regi
 stration opens at 10:30 a.m. and the walk will kick off at noon. Walke
 rs have the choice of a 1 mile or 3 mile route. Stick around following
  the walk for our post-walk celebration with food, entertainment, and 
 fun for the whole family! The Arthritis Walk® is the Arthritis Founda
 tion’s annual nationwide signature event that raises awareness and f
 unds to fight arthritis, the nation’s most common cause of disabilit
 y. It is a tremendous opportunity to help improve the lives of the 50 
 million men, women and children doctor-diagnosed with arthritis. Get y
 our company involved or recruit friends and family members to form a t
 eam or walk as an individual. Best of all, walk in honor of a loved on
 e with arthritis and know you’re making a difference by raising fund
 s to support Arthritis Foundation research, public health and public p
 olicy efforts to improve the lives of people with arthritis.\n\nFor mo
 re information visit http://neighborsforneighbors.org/events/2012-bost
 on-arthritis-walk
DTSTART:20120916T143000Z
DTEND:20120916T180000Z
CATEGORIES:fundraiser
LOCATION:DCR's Artesani Park
WEBSITE:
URL:
CONTACT:6172198221
ORGANIZER;CN="Robin Maxcy":http://neighborsforneighbors.org/profile/Ro
 binMaxcy
ATTACH;FMTTYPE="image/jpeg":
ATTENDEE;ROLE=REQ-PARTICIPANT;PARTSTAT=ACCEPTED;RSVP=TRUE;CN="Robin Ma
 xcy":http://neighborsforneighbors.org/profile/RobinMaxcy
END:VEVENT
END:VCALENDAR
