BEGIN:VCALENDAR
PRODID:NingEventWidget-v1
VERSION:2.0
METHOD:PUBLISH
BEGIN:VEVENT
UID:1171189:Event:98157
DTSTAMP:20260421T220620Z
SUMMARY:2013 Boston Arthritis Walk
DESCRIPTION:The 17th Annual Boston Arthritis Walk will take place on S
 unday, September 15, 2013, at the DCR’s Artesani Park in Brighton, M
 A. Registration opens at 9 a.m. and the opening ceremony is at 10:15 a
 .m. Walkers have the choice of a 1 mile or 3 mile route. Stick around 
 following the walk for our post-walk celebration with food, entertainm
 ent, and fun for the whole family!\n \nThe Boston Walk Team is lookin
 g for day of event volunteers to help with set-up, registration, T-shi
 rts, water station, route support, kids zone and clean-up. Set-up star
 ts at 7 a.m. and clean-up is until 2 p.m. Please contact Robin Maxcy b
 y email at rmaxcy@arthritis.org or by phone at 617-219-8221 if you’r
 e interested in more information. We look forward to seeing you there!
 The Arthritis Walk® is the Arthritis Foundation’s annual nationwide
  signature event that raises awareness and funds to fight arthritis, t
 he nation’s most common cause of disability. It is a tremendous oppo
 rtunity to help improve the lives of the 50 million men, women and chi
 ldren doctor-diagnosed with arthritis. Get your company involved or re
 cruit friends and family members to form a team or walk as an individu
 al. Best of all, walk in honor of a loved one with arthritis and know 
 you’re making a difference by raising funds to support Arthritis Fou
 ndation research, public health and public policy efforts to improve t
 he lives of people with arthritis.\n\nFor more information visit http:
 //neighborsforneighbors.org/events/2013-boston-arthritis-walk
DTSTART:20130915T130000Z
DTEND:20130915T180000Z
CATEGORIES:walk
LOCATION:DRC's Artesani Park
WEBSITE:
URL:
CONTACT:
ORGANIZER;CN="Robin Maxcy":http://neighborsforneighbors.org/profile/Ro
 binMaxcy
ATTACH;FMTTYPE="image/jpeg":
ATTENDEE;ROLE=REQ-PARTICIPANT;PARTSTAT=ACCEPTED;RSVP=TRUE;CN="Robin Ma
 xcy":http://neighborsforneighbors.org/profile/RobinMaxcy
END:VEVENT
END:VCALENDAR
