BEGIN:VCALENDAR
PRODID:NingEventWidget-v1
VERSION:2.0
METHOD:PUBLISH
BEGIN:VEVENT
UID:1171189:Event:34625
DTSTAMP:20260421T182237Z
SUMMARY:3X9: Three Images by Nine Photographers @ James's Gate Feb 2nd
 -March 14th. Opening Reception Feb 15th 7pm-9pm
DESCRIPTION:JAMES’S GATE GALLERY PRESENTS:\n\n3 X 9\nthree images by
  nine photographers\nfeaturing the works of:\njannine fonte . mike rit
 ter . christine li .\nlars knakkergaard . carl tremblay .\nbrian patri
 ck adams . brent refsland .\nrobert festa . robert sutherby\n\nON VIEW
  :\nFEBRUARY 2 - MARCH 14, 2010\n\nOPENING RECEPTION\nMONDAY, FEBRUARY
  15, 7 - 9 pm\n\nHOURS:\nTUESDAY – SATURDAY, 5:30 – 9:30pm\nSUNDAY
 , 5:30 – 9pm\nOR BY APPOINTMENT\nJames's Gate is located at 5 McBrid
 e street in Jamaica Plain, MA\n( at the corner of South & McBride stre
 ets in J.P. )\nFOR MORE INFO, PLEASE CONTACT BRIAN PATRICK ADAMS @\nTE
 L: 617 983 1760 EMAIL: bripatadams@yahoo.com\n\nFor more information v
 isit http://neighborsforneighbors.org/events/3x9-three-images-by-nine
DTSTART:20100216T000000Z
DTEND:20100216T020000Z
CATEGORIES:exhibit, and, opening, reception
LOCATION:James's Gate
WEBSITE:
URL:
CONTACT:
ORGANIZER:Brian Patrick Adams
ATTACH;FMTTYPE="image/jpeg":http://storage.ning.com/topology/rest/1.0/
 file/get/2245123775?profile=original
ATTENDEE;ROLE=REQ-PARTICIPANT;PARTSTAT=ACCEPTED;RSVP=TRUE;CN="Lars Kna
 kkergaard":http://neighborsforneighbors.org/profile/LarsKnakkergaard
END:VEVENT
END:VCALENDAR
