BEGIN:VCALENDAR
PRODID:NingEventWidget-v1
VERSION:2.0
METHOD:PUBLISH
BEGIN:VEVENT
UID:1171189:Event:110371
DTSTAMP:20260421T185833Z
SUMMARY:4th Annual JP Rocks and Rolls
DESCRIPTION:4th Annual JP Rocks and Rolls\nrecord and art fair\nOctobe
 r 5th 2014\n11-3pm\nAt Spontaneous Celebrations\nnear stony brook\nto 
 sign up to be a vendor\nwww.jprocksandrolls.com \n\nFor more informat
 ion visit http://neighborsforneighbors.org/events/4th-annual-jp-rocks-
 and-rolls
DTSTART:20141005T150000Z
DTEND:20141005T190000Z
CATEGORIES:arts, and, crafts, fair
LOCATION:Spontaneous Celebrations
WEBSITE:http://www.jprocksandrolls.com
URL:http://www.jprocksandrolls.com
CONTACT:
ORGANIZER;CN="Jenn Hickey":http://neighborsforneighbors.org/profile/Je
 nnHickey997
ATTACH;FMTTYPE="image/jpeg":http://storage.ning.com/topology/rest/1.0/
 file/get/2245142765?profile=original
ATTENDEE;ROLE=REQ-PARTICIPANT;PARTSTAT=ACCEPTED;RSVP=TRUE;CN="Jenn Hic
 key":http://neighborsforneighbors.org/profile/JennHickey997
END:VEVENT
END:VCALENDAR
