BEGIN:VCALENDAR
PRODID:NingEventWidget-v1
VERSION:2.0
METHOD:PUBLISH
BEGIN:VEVENT
UID:1171189:Event:88973
DTSTAMP:20260421T184454Z
SUMMARY:5th Annual Curley K-8 Silent Auction and Raffle at Canary Squa
 re
DESCRIPTION:\nhttps://www.facebook.com/events/229097540510576/\nCompli
 mentary hors d’oeuvres will be served and dinner & drinks will be av
 ailable for purchase. Tell your friends and neighbors!!\nItems to bid 
 on include: sports (Red Sox!!) and theater tickets, restaurant gift ce
 rtificates, portrait sittings, museum memberships, jewelry, artwork, a
 nd many goods and services donated by local businesses!\nOpportunities
  to win One of Three amazing raffle baskets!\nAll money raised goes to
  support Music and Art programming at the Curley.\nSuggested donation 
 $15 per person Book your sitter and come to this exciting community ev
 ent.\nThank you for making the 5th Annual Silent Auction an amazing su
 ccess!!!\n-The Silent Auction Core Planning Team\n\nFor more informati
 on visit http://neighborsforneighbors.org/events/5th-annual-curley-k-8
 -silent-auction-and-raffle-at-canary-square
DTSTART:20120313T220000Z
DTEND:20120314T010000Z
CATEGORIES:silent, auction, raffle, complimentary, appetizers, music, 
 night, out
LOCATION:Canary Square, 435 South Huntington Avenue, Jamaica Plain MA
WEBSITE:
URL:
CONTACT:
ORGANIZER;CN=incikaya:http://neighborsforneighbors.org/profile/incikay
 a
ATTACH;FMTTYPE="image/jpeg":
ATTENDEE;ROLE=REQ-PARTICIPANT;PARTSTAT=ACCEPTED;RSVP=TRUE;CN=incikaya:
 http://neighborsforneighbors.org/profile/incikaya
END:VEVENT
END:VCALENDAR
