BEGIN:VCALENDAR
PRODID:NingEventWidget-v1
VERSION:2.0
METHOD:PUBLISH
BEGIN:VEVENT
UID:1171189:Event:88663
DTSTAMP:20260421T184349Z
SUMMARY:5th Annual Curley K-8 Silent Auction at Canary Square
DESCRIPTION:PLEASE SAVE THE DATE of TUESDAY, MARCH 13 for our 5th Annu
 al Curley Silent Auction at Canary Square in Jamaica Plain from 6-9pm.
   Get your babysitters lined up now for this terrific grown-ups' nigh
 t out with new and old friends! A suggested donation of $15 includes l
 ight refreshments and a chance to bid on exciting items including food
 , wine, childcare, tickets to movies and shows, gift certificates to l
 ocal restaurants and much more. Raffle tickets will be sold for amazin
 g baskets.  The restaurant's full menu and bar will be available to o
 rder a la carte. All funds raised will support arts, music and science
  programming at the Curley!\n\nFor more information visit http://neigh
 borsforneighbors.org/events/5th-annual-curley-k-8-silent-auction-at-ca
 nary-square
DTSTART:20120313T220000Z
DTEND:20120314T010000Z
CATEGORIES:fundraiser, raffle, items, free, appetizers, music, at, can
 ary, square
LOCATION:Canary Square
WEBSITE:http://www.facebook.com/events/229097540510576/
URL:http://www.facebook.com/events/229097540510576/
CONTACT:617 794 8579 (inci kaya - volunteer parent)
ORGANIZER:Curley K-8 School Parent Council
ATTACH;FMTTYPE="image/jpeg":
ATTENDEE;ROLE=REQ-PARTICIPANT;PARTSTAT=ACCEPTED;RSVP=TRUE;CN=incikaya:
 http://neighborsforneighbors.org/profile/incikaya
END:VEVENT
END:VCALENDAR
