BEGIN:VCALENDAR
PRODID:NingEventWidget-v1
VERSION:2.0
METHOD:PUBLISH
BEGIN:VEVENT
UID:1171189:Event:75853
DTSTAMP:20260421T185839Z
SUMMARY:5th Annual Peace of Pie Contest
DESCRIPTION:The 5th Annual Peace of Pie Contest will be held on August
  14th at Spontaneous Celebrations in Jamaica Plain to benefit the Hard
 tHaven Children’s Home in Kpando, Ghana in West Africa and the Big S
 ister Association of Greater Boston. This year’s event features a pi
 e baking contest with both professional and novice competitions with a
  focus on local ingredients, the ever-popular pie eating contest, fami
 ly-friendly entertainment, and, of course, pie tasting. This year, we'
 re emphasizing the importance of local food by inviting you to enter p
 ies that feature local ingredients.Entrance:\n$50 - Professional/Baker
 y Contestants$20 - General Admission$15 - Amateur Pie Baking Contestan
 ts and Pie Eating Contestants$5 - Children under 10$0 - Big Sister Ass
 ociation of Greater Boston \"Bigs\" who bring \"Littles\" and children
  under 5\n\nFor more information visit http://neighborsforneighbors.or
 g/events/5th-annual-peace-of-pie
DTSTART:20110814T210000Z
DTEND:20110814T230000Z
CATEGORIES:fundraiser, community, event
LOCATION:Spontaneous Celebrations
WEBSITE:http://www.facebook.com/home.php?sk=group_144886275521704&ap=1
URL:http://www.facebook.com/home.php?sk=group_144886275521704&ap=1
CONTACT:
ORGANIZER;CN=Dana:http://neighborsforneighbors.org/profile/Dana
ATTACH;FMTTYPE="image/jpeg":http://storage.ning.com/topology/rest/1.0/
 file/get/2245130373?profile=original
ATTENDEE;ROLE=REQ-PARTICIPANT;PARTSTAT=ACCEPTED;RSVP=TRUE;CN="Ferris W
 heels Bike Shop":http://neighborsforneighbors.org/profile/FerrisWheels
 BikeShop
ATTENDEE;ROLE=REQ-PARTICIPANT;PARTSTAT=ACCEPTED;RSVP=TRUE;CN=Dana:http
 ://neighborsforneighbors.org/profile/Dana
END:VEVENT
END:VCALENDAR
