BEGIN:VCALENDAR
PRODID:NingEventWidget-v1
VERSION:2.0
METHOD:PUBLISH
BEGIN:VEVENT
UID:1171189:Event:107029
DTSTAMP:20260421T220727Z
SUMMARY:88 Dunster Rd - Open House
DESCRIPTION:This Jamaica Plain home is a cut above the rest for many 
 reasons. This Pondside condominium has a perfect plan with well-design
 ed kitchen, baths and spacious, bright rooms. Complete renovation in 2
 008. Top of the line kitchen cabinets and Jenn Air appliances. Two att
 ractive tiled full baths with beautiful natural light. Pristine wood f
 loors throughout as well as lots of original woodwork and historic det
 ail including a built-in china hutch with leaded glass windows. New wi
 ndows, electric and plumbing. Huge, dry storage area in basement with 
 state-of-the-art heating/hot water. Huge rear deck overlooking MASSIVE
  12,000+SF yard! Less than 1 block from Jamaica Pond. Just a short wal
 k from Arnold Arboretum, shops, pubs, restos and boutiques that make J
 amaica Plain such a great place to live. — MLSPIN #: 71641202\n\nFor
  more information visit http://neighborsforneighbors.org/events/88-dun
 ster-rd-open-house-1
DTSTART:20140316T160000Z
DTEND:20140316T170000Z
CATEGORIES:real, estate, open, house
LOCATION:Pondside
WEBSITE:https://www.google.com/maps/place/88+Dunster+Rd/@42.311753,-71
 .119696,17z/data=!3m1!4b1!4m2!3m1!1s0x89e3796cc06cba2b:0x8df55b0efd225
 725
URL:https://www.google.com/maps/place/88+Dunster+Rd/@42.311753,-71.119
 696,17z/data=!3m1!4b1!4m2!3m1!1s0x89e3796cc06cba2b:0x8df55b0efd225725
CONTACT:617-828-7956
ORGANIZER;CN="William Brokhof":http://neighborsforneighbors.org/profil
 e/WilliamBrokhof155
ATTACH;FMTTYPE="image/jpeg":http://storage.ning.com/topology/rest/1.0/
 file/get/2245142279?profile=original
ATTENDEE;ROLE=REQ-PARTICIPANT;PARTSTAT=ACCEPTED;RSVP=TRUE;CN="William 
 Brokhof":http://neighborsforneighbors.org/profile/WilliamBrokhof155
END:VEVENT
END:VCALENDAR
