BEGIN:VCALENDAR
PRODID:NingEventWidget-v1
VERSION:2.0
METHOD:PUBLISH
BEGIN:VEVENT
UID:1171189:Event:107260
DTSTAMP:20260422T012012Z
SUMMARY:88 Dunster Road - Open House
DESCRIPTION:This Jamaica Plain home is a cut above the rest for many r
 easons. This Pondside condominium has a perfect plan with well-designe
 d kitchen, baths and spacious, bright rooms. Complete renovation in 20
 08. Top of the line kitchen cabinets and Jenn Air appliances. Two attr
 active tiled full baths with beautiful natural light. Pristine wood fl
 oors throughout as well as lots of original woodwork and historic deta
 il including a built-in china hutch with leaded glass windows. New win
 dows, electric and plumbing. Huge, dry storage area in basement with s
 tate-of-the-art heating/hot water. Huge rear deck overlooking MASSIVE 
 12,000+SF yard! Less than 1 block from Jamaica Pond. Just a short walk
  from Arnold Arboretum, shops, pubs, restos and boutiques that make Ja
 maica Plain such a great place to live. — MLSPIN #: 71641202\n\nFor 
 more information visit http://neighborsforneighbors.org/events/88-duns
 ter-road-open-house
DTSTART:20140314T150000Z
DTEND:20140314T170000Z
CATEGORIES:open, house
LOCATION:Pondside
WEBSITE:http://88 Dunster Rd, Jamaica Plain, MA 02130
URL:http://88 Dunster Rd, Jamaica Plain, MA 02130
CONTACT:6178287956
ORGANIZER;CN="William Brokhof":http://neighborsforneighbors.org/profil
 e/WilliamBrokhof155
ATTACH;FMTTYPE="image/jpeg":http://storage.ning.com/topology/rest/1.0/
 file/get/2245142506?profile=original
ATTENDEE;ROLE=REQ-PARTICIPANT;PARTSTAT=ACCEPTED;RSVP=TRUE;CN="William 
 Brokhof":http://neighborsforneighbors.org/profile/WilliamBrokhof155
END:VEVENT
END:VCALENDAR
