BEGIN:VCALENDAR
PRODID:NingEventWidget-v1
VERSION:2.0
METHOD:PUBLISH
BEGIN:VEVENT
UID:1171189:Event:46912
DTSTAMP:20260421T180927Z
SUMMARY:A Concert of Spirituals
DESCRIPTION:\n\nFor more information visit http://neighborsforneighbor
 s.org/events/a-concert-of-spirituals-1
DTSTART:20100626T233000Z
DTEND:20100627T003000Z
CATEGORIES:concert
LOCATION:River of Life Church
WEBSITE:http://www.rolcboston.org
URL:http://www.rolcboston.org
CONTACT:
ORGANIZER;CN="Erin Scott -- Community Manager":http://neighborsforneig
 hbors.org/profile/ErinScott
ATTACH;FMTTYPE="image/jpeg":http://storage.ning.com/topology/rest/1.0/
 file/get/2104696521?profile=original
ATTENDEE;ROLE=REQ-PARTICIPANT;PARTSTAT=ACCEPTED;RSVP=TRUE;CN="Jay Smit
 h":http://neighborsforneighbors.org/profile/JaySmith
ATTENDEE;ROLE=REQ-PARTICIPANT;PARTSTAT=ACCEPTED;RSVP=TRUE;CN="Erin Sco
 tt -- Community Manager":http://neighborsforneighbors.org/profile/Erin
 Scott
END:VEVENT
END:VCALENDAR
