BEGIN:VCALENDAR
PRODID:NingEventWidget-v1
VERSION:2.0
METHOD:PUBLISH
BEGIN:VEVENT
UID:1171189:Event:46855
DTSTAMP:20260421T164348Z
SUMMARY:\"A Concert of Spirituals\"
DESCRIPTION:Join us on Saturday, June 26th at 7:30pm for \"A Concert o
 f Spirituals\" in celebration of Black Music Month. Featuring students
  from the New England Conservatory. The concert will take place at Riv
 er of Life Church, 440 Centre Street, Jamaica Plain. Suggested donatio
 n $5.\n\nFor more information visit http://neighborsforneighbors.org/e
 vents/a-concert-of-spirituals
DTSTART:20100626T233000Z
DTEND:20100627T010000Z
CATEGORIES:concert
LOCATION:River of Life Church
WEBSITE:http://www.rolcboston.org
URL:http://www.rolcboston.org
CONTACT:617.524.3478
ORGANIZER:Jay Smith
ATTACH;FMTTYPE="image/jpeg":http://storage.ning.com/topology/rest/1.0/
 file/get/2104696521?profile=original
ATTENDEE;ROLE=REQ-PARTICIPANT;PARTSTAT=ACCEPTED;RSVP=TRUE;CN="Erin Sco
 tt -- Community Manager":http://neighborsforneighbors.org/profile/Erin
 Scott
ATTENDEE;ROLE=REQ-PARTICIPANT;PARTSTAT=ACCEPTED;RSVP=TRUE;CN="Jay Smit
 h":http://neighborsforneighbors.org/profile/JaySmith
ATTENDEE;ROLE=REQ-PARTICIPANT;PARTSTAT=ACCEPTED;RSVP=TRUE;CN="Lisa Nie
 ves":http://neighborsforneighbors.org/profile/LisaNieves
END:VEVENT
END:VCALENDAR
