BEGIN:VCALENDAR
PRODID:NingEventWidget-v1
VERSION:2.0
METHOD:PUBLISH
BEGIN:VEVENT
UID:1171189:Event:64519
DTSTAMP:20260421T212654Z
SUMMARY:A Midsummer Night's Dream - The Footlight Club
DESCRIPTION:﻿﻿﻿﻿﻿﻿The Footlight Club, America's Oldest Com
 munity Theater presents:  William Shakespeare's A Midsummer Night's D
 ream.  Directed by Caitlin Lowans. \nShakespeare's beloved tale of l
 ove triangles, sorcery, and mischief, is one of the Bard's most popula
 r plays.  Come see what intrigue awaits when young lovers elope into 
 a fairy-filled forest at night.  A beautiful interpretation of Shakes
 peare's famous comedy, including performance in the arena, gorgeous li
 ghts and sound, phenomenal costumes, and some of the most talented com
 munity theater actors  around.  Fantastic direction and set design b
 y Caitlin Lowans offers a stunning visual experience for all ages!\nPe
 rformances:  Fridays and Saturdays 2/4, 2/5, 2/11, 2/12  8pm\nwww.fo
 otlight.org for tickets\nAdults:  $18\nStudent/Senior/Group:  $16\nM
 embers/VIP/Advertisers:  Free\n\nFor more information visit http://ne
 ighborsforneighbors.org/events/a-midsummer-nights-dream-the
DTSTART:20110205T010000Z
DTEND:20110213T010000Z
CATEGORIES:theater, performance
LOCATION:The Footlight Club
WEBSITE:http://www.footlight.org
URL:http://www.footlight.org
CONTACT:
ORGANIZER:The Footlight Club
ATTACH;FMTTYPE="image/jpeg":http://storage.ning.com/topology/rest/1.0/
 file/get/2245140176?profile=original
ATTENDEE;ROLE=REQ-PARTICIPANT;PARTSTAT=ACCEPTED;RSVP=TRUE;CN="Elizabet
 h Bean":http://neighborsforneighbors.org/profile/ElizabethBean
END:VEVENT
END:VCALENDAR
