BEGIN:VCALENDAR
PRODID:NingEventWidget-v1
VERSION:2.0
METHOD:PUBLISH
BEGIN:VEVENT
UID:1171189:Event:52045
DTSTAMP:20260421T221218Z
SUMMARY:A Night of Art and Music - Refugee Immigration Ministry
DESCRIPTION:Refugee Immigration Ministry's JP/Boston Southwest Interfa
 ith Cluster presents: A Night of Art and Music!\nSaturday, September 2
 5th, 6:30-9:30pm.\nFirst Baptist Church in Jamaica Plain, community ro
 om\n\nProceeds help to support asylum seekers and refugees in our comm
 unity.\n\nFeaturing the music of Dennis Pan, Dan Emino and Neara Russe
 ll!\n*free food, plenty of vegetarian options\nTickets: $15/person, pu
 rchase in advance, day-of sidewalk sale, or at the door...contact Elai
 ne Wallace for more information on tickets, ejmwallace@yahoo.com, 617-
 470-7419\n\nFor more information visit http://neighborsforneighbors.or
 g/events/a-night-of-art-and-music
DTSTART:20100925T223000Z
DTEND:20100926T013000Z
CATEGORIES:fundraiser
LOCATION:First Baptist Church in Jamaica Plain, community room
WEBSITE:http://www.r-i-m.net
URL:http://www.r-i-m.net
CONTACT:336-250-5216
ORGANIZER;CN="Daryn Bunce Stylianopoulos":http://neighborsforneighbors
 .org/profile/DarynBunceStylianopoulos
ATTACH;FMTTYPE="image/jpeg":http://storage.ning.com/topology/rest/1.0/
 file/get/2245130814?profile=original
ATTENDEE;ROLE=REQ-PARTICIPANT;PARTSTAT=ACCEPTED;RSVP=TRUE;CN="Daryn Bu
 nce Stylianopoulos":http://neighborsforneighbors.org/profile/DarynBunc
 eStylianopoulos
END:VEVENT
END:VCALENDAR
