BEGIN:VCALENDAR
PRODID:NingEventWidget-v1
VERSION:2.0
METHOD:PUBLISH
BEGIN:VEVENT
UID:1171189:Event:104920
DTSTAMP:20260421T172308Z
SUMMARY:A Quartet of Berklee College of Music String Quartets
DESCRIPTION:Eliot Street Coffeehouse Presents A Quartet of Berklee Co
 llege of Music String Quartets\nA benefit concert for the First Church
  in Jamaica Plain \nThe Anger - Haas - Parks - Jonsson Quartet The In
 ternational Gals of Quartetdom The Four Corners Quartet The Resurexon 
 Quartet\nStudents, seniors and unemployed $10 All others $15 advance, 
 $20 at the door Tickets http://www.brownpapertickets.com/event/512633
  Website: http://www.firstchurchjp.org/eliotstreetcoffeehouse/ Facebo
 ok: https://www.facebook.com/6EliotStreet/ Share this event! https:/
 /www.facebook.com/events/312681578870221/ Telephone - (617) 942-0716\n
 \n  TURN YOUR RADIO ON! Saturday, November 7, 8-10am. Darol Anger and 
 Brittany Haas will be Doug Gessler's live, in-studio guest on \"Lost 
 Highway\" on WMBR, 88.1fm, streaming at wmbr.org. Tune in for a chance
  to win tickets for a QUARTET OF BERKLEE COLLEGE OF MUSIC STRING QUART
 ETS.  Thanks to J.P. Licks for providing coffee and hot chocolate and 
 Fiore's for providing pastries!\n\nFor more information visit http://n
 eighborsforneighbors.org/events/a-quartet-of-berklee-college-of-music-
 string-quartets
DTSTART:20131208T010000Z
DTEND:20131208T030000Z
CATEGORIES:concert
LOCATION:First Church Jamaica Plain, 6 Eliot Street, JP
WEBSITE:http://www.firstchurchjp.org/eliotstreetcoffeehouse/
URL:http://www.firstchurchjp.org/eliotstreetcoffeehouse/
CONTACT:6179420716
ORGANIZER;CN="Jeff Boudreau":http://neighborsforneighbors.org/profile/
 JeffBoudreau
ATTACH;FMTTYPE="image/jpeg":http://storage.ning.com/topology/rest/1.0/
 file/get/2245141532?profile=original
ATTENDEE;ROLE=REQ-PARTICIPANT;PARTSTAT=ACCEPTED;RSVP=TRUE;CN="Jeff Bou
 dreau":http://neighborsforneighbors.org/profile/JeffBoudreau
END:VEVENT
END:VCALENDAR
