BEGIN:VCALENDAR
PRODID:NingEventWidget-v1
VERSION:2.0
METHOD:PUBLISH
BEGIN:VEVENT
UID:1171189:Event:68365
DTSTAMP:20260421T201821Z
SUMMARY:A Stillness Within: Meditation Workshop  (FREE)
DESCRIPTION:We all wish for peace of mind amidst the stress and busyne
 ss of daily life.  Although we may find moments of quiet in our liv
 es, don't we yearn to experience  a consistent and ongoing sense o
 f inner peace? \n \nPlease join us to discover how training in med
 itation opens up our potential to experience a vast and profound sti
 llness within. Evening includes guided meditations & teachings. No me
 ditation experience is necessary and all ages are welcome!   FREE.\n\
 nWith Kadampa Buddhist Teacher, Debra Acquavella\n\n\nFor more inform
 ation visit http://neighborsforneighbors.org/events/a-stillness-within
 -meditation
DTSTART:20110413T223000Z
DTEND:20110413T234500Z
CATEGORIES:meditation, class
LOCATION:Roslindale Branch Library- Boston Public Library
WEBSITE:http://www.meetup.com/Serlingpa-Buddhist-Meditation-Center-JP/
URL:http://www.meetup.com/Serlingpa-Buddhist-Meditation-Center-JP/
CONTACT:617-323-2343
ORGANIZER:
ATTACH;FMTTYPE="image/jpeg":http://storage.ning.com/topology/rest/1.0/
 file/get/2245132596?profile=original
ATTENDEE;ROLE=REQ-PARTICIPANT;PARTSTAT=ACCEPTED;RSVP=TRUE;CN="Debra Ac
 quavella":http://neighborsforneighbors.org/profile/DebraAcquavella
END:VEVENT
END:VCALENDAR
