BEGIN:VCALENDAR
PRODID:NingEventWidget-v1
VERSION:2.0
METHOD:PUBLISH
BEGIN:VEVENT
UID:1171189:Event:125201
DTSTAMP:20260421T200107Z
SUMMARY:A Thousand Doorways
DESCRIPTION:Friday, March 22 @ 7:30 PMSaturday, March 23 @ 7:30 PMSund
 ay, March 24 @ 2 PM\nMoved by the silencing of the Kurdish language by
  Turkish laws, renowned American storyteller Diane Edgecomb embarks on
  a journey of intrigue and heart to record the last Kurdish storytelle
 rs. This is the deeply moving, richly humorous story of her travels th
 rough the remote mountains of Turkey and of the extraordinary people w
 ho shared their lives and their stories with her.\nNOTE: The Sunday ma
 tinee will be followed by light refreshments and a talk back with Dian
 e Edgecomb and artist Selahattin Sep the Kurdish visual artist whose p
 aintings are on display at First Church through the month of March.\nE
 mail: dedge@livingmyth.com\nPhone: 617-522-4335\nTickets: $25 ($20 sen
 iors and students)\nGet tickets here!\n\nFor more information visit ht
 tp://neighborsforneighbors.org/events/a-thousand-doorways
DTSTART:20190322T233000Z
DTEND:20190324T193000Z
CATEGORIES:storytelling, theatrical
LOCATION:First Church in Boston
WEBSITE:http://1000doorways.eventbrite.com
URL:http://1000doorways.eventbrite.com
CONTACT:617-522-4335
ORGANIZER;CN="Diane Edgecomb":http://neighborsforneighbors.org/profile
 /DianeEdgecomb
ATTACH;FMTTYPE="image/jpeg":https://storage.ning.com/topology/rest/1.0
 /file/get/1259380085?profile=original
ATTENDEE;ROLE=REQ-PARTICIPANT;PARTSTAT=ACCEPTED;RSVP=TRUE;CN="Diane Ed
 gecomb":http://neighborsforneighbors.org/profile/DianeEdgecomb
END:VEVENT
END:VCALENDAR
