BEGIN:VCALENDAR
PRODID:NingEventWidget-v1
VERSION:2.0
METHOD:PUBLISH
BEGIN:VEVENT
UID:1171189:Event:71986
DTSTAMP:20260421T200407Z
SUMMARY:Act to Invest in Our Communities
DESCRIPTION:May 5th Rally\nThe State House Revenue Committee Hearing i
 s just around the corner -- next Thursday, May 5, 10:30 am to 2:00 pm.
   We need a strong turnout!\n \nThe \"Act to Invest in Our Communiti
 es\" is all about funding services we need to have strong communities 
 in which to live and work.  It's about a step toward more fairness in
  state taxes where higher income folks pay a bit more.  It is not abo
 ut pitting one important service against another -- we are advocating 
 for what we WANT, an important shift in the conversation and one that 
 is more engaging and empowering.\n \nLet's build turnout for the hea
 ring and for calls to legislators.  To find yours, go to : http://www
 .wheredoivotema.com/bal/myelectioninfo.php  .  The link to State leg
 islators will take you to their page and direct phone line. \n \n \
 n \nHope to see you there!\n\nFor more information visit http://neigh
 borsforneighbors.org/events/act-to-invest-in-our
DTSTART:20110505T143000Z
DTEND:20110505T180000Z
CATEGORIES:social, action
LOCATION:State House, Gardner Auditorium
WEBSITE:http://tinyurl.com/State-House-Gardner-Auditorium
URL:http://tinyurl.com/State-House-Gardner-Auditorium
CONTACT:
ORGANIZER:Fund our Future
ATTACH;FMTTYPE="image/jpeg":
ATTENDEE;ROLE=REQ-PARTICIPANT;PARTSTAT=ACCEPTED;RSVP=TRUE;CN="George U
 lrich":http://neighborsforneighbors.org/profile/GeorgeUlrich
END:VEVENT
END:VCALENDAR
