BEGIN:VCALENDAR
PRODID:NingEventWidget-v1
VERSION:2.0
METHOD:PUBLISH
BEGIN:VEVENT
UID:1171189:Event:50924
DTSTAMP:20260421T184141Z
SUMMARY:Adventure Cycling Gathering
DESCRIPTION:Learn about Adventure Cycling’s latest routes and activi
 ties, and meet others who share your passion for bicycle adventures. S
 pecial projects director, Ginny Sullivan, will present organizational 
 news and answer questions about Adventure Cycling's work on the U.S. B
 icycle Route System. We encourage you to invite friends and family.\n\
 nPlease RSVP by August 13 by emailing or calling Beth Petersen at bpet
 ersen@adventurecycling.org / 800-755-2453 x 211.\n\nFor more informati
 on visit http://neighborsforneighbors.org/events/adventure-cycling-gat
 hering
DTSTART:20100819T220000Z
DTEND:20100819T230000Z
CATEGORIES:gathering
LOCATION:Jamaica Plain Branch Library
WEBSITE:http://www.bpl.org/branches/jp_map.htm
URL:http://www.bpl.org/branches/jp_map.htm
CONTACT:617-524-2453
ORGANIZER:Adventure Cycling
ATTACH;FMTTYPE="image/jpeg":http://storage.ning.com/topology/rest/1.0/
 file/get/2245131001?profile=original
ATTENDEE;ROLE=REQ-PARTICIPANT;PARTSTAT=ACCEPTED;RSVP=TRUE;CN="Ferris W
 heels Bike Shop":http://neighborsforneighbors.org/profile/FerrisWheels
 BikeShop
END:VEVENT
END:VCALENDAR
