BEGIN:VCALENDAR
PRODID:NingEventWidget-v1
VERSION:2.0
METHOD:PUBLISH
BEGIN:VEVENT
UID:1171189:Event:90006
DTSTAMP:20260421T203902Z
SUMMARY:AIDS Walk Boston & 5K Run
DESCRIPTION:Every year since 1986 our community has gathered on the fi
 rst Sunday in June for AIDS Walk Boston, an annual grassroots communit
 y event benefiting AIDS Action Committee of Massachusetts, New England
 ’s largest and oldest AIDS service organization.\nWith so many ways
  to participate in the AIDS Walk & 5K Run, everyone can get involved! 
 You can participate as a:\n\nWalker\n \nJoin over 12,000 participants
  along the 10K (6.2 mile) Walk route and help raise awareness and fund
 s for our work.\n\nRunner\n \nIf you prefer running to walking, you c
 an race in the Larry Kessler 5K Run and support our cause.\n\nTeam\n 
 \nOrganize friends, family, colleagues, neighbors, or classmates to wa
 lk together as a Team!  There are over 500 teams that support our wor
 k and our community.\n\nVolunteer\n \n\nWe rely on hundreds of dedica
 ted volunteers to help us before, during, and after the Walk.  Help u
 s make it a success by lending your talents to our work.\n\nVirtual Wa
 lker\n \nIf you want to fundraise for the AIDS Walk & 5K Run, but are
  unable to join us the day of the event, sign up as a Virtual Walker a
 nd you'll still get your own personal fundraising page.\n\n\n\n\nFor m
 ore information visit http://neighborsforneighbors.org/events/aids-wal
 k-boston-5k-run
DTSTART:20120603T113000Z
DTEND:20120603T180000Z
CATEGORIES:fundraiser, walk, run
LOCATION:DCR Hatch Shell
WEBSITE:http://www.aidswalkboston.org
URL:http://www.aidswalkboston.org
CONTACT:617-424-9255
ORGANIZER:AIDS Action Committee
ATTACH;FMTTYPE="image/jpeg":http://storage.ning.com/topology/rest/1.0/
 file/get/2245139693?profile=original
ATTENDEE;ROLE=REQ-PARTICIPANT;PARTSTAT=ACCEPTED;RSVP=TRUE;CN=Ashley:ht
 tp://neighborsforneighbors.org/profile/Ashley
END:VEVENT
END:VCALENDAR
