BEGIN:VCALENDAR
PRODID:NingEventWidget-v1
VERSION:2.0
METHOD:PUBLISH
BEGIN:VEVENT
UID:1171189:Event:34935
DTSTAMP:20260421T185812Z
SUMMARY:Alchemist Lounge, Monster Valentine's weekend
DESCRIPTION:Join us...\nOur Valentine's Prix Fixe menu\nwill be availa
 ble all weekend.\nFriday, Saturday\n(In addition to our regular menu)\
 nSunday will be Prix Fixe only\n(with a special menu available at the 
 bar)\n\nPlease call for reservations\n617-477-5741\n\n\n\nValentine's 
 Menu\n\n3 course Prix fixe $45\nAsk about our cocktail specials\n\nFir
 st Course\n\nDual of Soups: Strawberry Gazpacho and Light Carrot Ginge
 r\n\nGrapefruit and Blood Orange Salad: Red onions, African basil, and
  crumbled feta\n\nCaprese Salad: Roasted heirloom tomatoes,\nfresh pes
 to mozzarella\ntopped with an avocado vinaigrette\n\nFresh Shucked Oys
 ters: Served with lemon granita and champagne mignonette\n(Additional 
 oysters $1 each)\n\nSecond Course\n\nPan Seared Lamb Chop: Red beet ri
 sotto and a savory cherry demi glaze\n\nClassic Paella: Saffron rice, 
 mussels, clams, chorizo and chicken\n\nLobster (1 1/2 lb) Choice of 3 
 different preparations:\n~ Sautéed in a tarragon pesto ~ Grilled with
  fresh squeezed lemon juice ~ Boiled served with butter\n\nAll served 
 with parmesan truffle fries\n\n18 oz Grilled Bone-In Rib Eye: Sautéed
  fingerling potatoes and grilled jumbo asparagus\n\nZesty Eggplant Las
 agna: Grilled vegetables,\ngoat cheese and zesty ricotta with house-ma
 de marinara\n\nThird Course\n\nChef's choice of assorted desserts for 
 two\n\nGlass of Barefoot Brut $7\n\n\n\n\n\n\n435 SOUTH HUNTINGTON AVE
 \nJAMAICA PLAIN, Massachusetts 02130\n617-477-5741\nJoin Our Mailing L
 ist!\n\nFor more information visit http://neighborsforneighbors.org/ev
 ents/alchemist-lounge-monster
DTSTART:20100211T220000Z
DTEND:20100215T030000Z
CATEGORIES:valentines, weekend
LOCATION:The Alchemist Lounge
WEBSITE:http://alchemistlounge.com
URL:http://alchemistlounge.com
CONTACT:617-477-5741
ORGANIZER;CN=Lyndon:http://neighborsforneighbors.org/profile/Lyndon
ATTACH;FMTTYPE="image/jpeg":http://storage.ning.com/topology/rest/1.0/
 file/get/2245125617?profile=original
ATTENDEE;ROLE=REQ-PARTICIPANT;PARTSTAT=ACCEPTED;RSVP=TRUE;CN=Lyndon:ht
 tp://neighborsforneighbors.org/profile/Lyndon
END:VEVENT
END:VCALENDAR
