BEGIN:VCALENDAR
PRODID:NingEventWidget-v1
VERSION:2.0
METHOD:PUBLISH
BEGIN:VEVENT
UID:1171189:Event:61712
DTSTAMP:20260421T201821Z
SUMMARY:ALL  TOGETHER  NOW
DESCRIPTION:::::::::::::::::::: POLK un BLUE (presents):::::::::::::::
 :::: \n::::::::::::::::::: ALL TOGETHER NOW::::::::::::::::::: Â  Â  Â
   Â  Â Â  art, music, cool people, contests, hanging out, laughing, en
 joyment, interaction, Tom Foolery...[etc.].Venue: Middle East Upstairs
 Age: 18+Cost: $10 Door, $8 Adavance6-7 pm :: ART RECEPTION7-8 pm :: DJ
 ...RECEPTION... ART LOOKING8-12:30pm :: BANDS ...DJ... CONTESTS\n12:30
 pm...more...6-7pm Art Reception for the following artists:Sarah Kinne 
 (Mid East Corner)Arielle Epstien (Mid East Restaurant)Felippe Sanchez 
 (Mid East Restaurant)--DJ:Â  El Poser--VJ & video art: Steve GriseGREE
 TER: Andrew Alexander AndrewAlexander.com--AIRBRUSH TATOOS: Bobby Swai
 nston, Ryan Davis--VISUAL ART:Rachel JacksonMinatsu ArigaBobby Swainst
 onErica Femino--LIVE ART_ INSTALLATION: Fallon Leigh O'Brien, Jade Boj
 kovic,Aggie Pavlidis,Tim Gough, James Neville--MUSIC:(Approx)11:30-12 
 Madame Pyschosishttp://www.myspace.com/mmepsychosis10:50- 11:20 Brief 
 Awakeninghttp://www.myspace.com/briefawakening10:00- 10:30Cilla Bonnie
  Bandhttp://www.myspace.com/cillabonnie9:20-9:50 Streight Angularhttp:
 //www.myspace.com/streightangular8:40-9:10 Cosmic Microwave Background
 8:00- 8:30 Looks Realistichttp://www.myspace.com/looksrealistic--CONTE
 STS///1- Longests Hula Hoop Twirler.2- Best Walk/Strut. 3- Person to s
 tand on one leg the longest.___________________///POLK un BLUE/// is a
  collaboration ofAnna Miller, Al Polk and Tom Tipton:www.unstandard.or
 gwww.polkrecords.orgwww.outoftheblueartgallery.com\n\nFor more informa
 tion visit http://neighborsforneighbors.org/events/all-together-now
DTSTART:20110116T233000Z
DTEND:20110117T074500Z
CATEGORIES:party, "/", event, aaaht, movement
LOCATION:Middle East Ground Level [\"upstairz\"] cool people, contests
 ...
WEBSITE:
URL:
CONTACT:~ please come if you can !!
ORGANIZER;CN="Andrew Alexander":http://neighborsforneighbors.org/profi
 le/AndrewAlexander
ATTACH;FMTTYPE="image/jpeg":
ATTENDEE;ROLE=REQ-PARTICIPANT;PARTSTAT=ACCEPTED;RSVP=TRUE;CN="Andrew A
 lexander":http://neighborsforneighbors.org/profile/AndrewAlexander
END:VEVENT
END:VCALENDAR
