BEGIN:VCALENDAR
PRODID:NingEventWidget-v1
VERSION:2.0
METHOD:PUBLISH
BEGIN:VEVENT
UID:1171189:Event:75603
DTSTAMP:20260421T194358Z
SUMMARY:\"Allston: Places Worth Preserving, Stories Worth Telling\" Wo
 rkshop
DESCRIPTION:The Boston Preservation Alliance will host a FREE worksho
 p, Allston: Places Worth Preserving, Stories Worth Telling. At this w
 orkshop, you will have a chance to:\n\nShare your knowledge and questi
 ons about the history, places, and stories of Allston\nLearn about Bos
 ton Preservation Alliance's work in Boston's neighborhoods\nContribute
  to a final report that will guide future planning, education and advo
 cacy in your neighborhood\nEnjoy refreshments and conversation with yo
 ur neighbors\n\nFor questions or to RSVP, please contact Erica Lindamo
 od at elindamood@bostonpreservation.org or 617-367-2458.\n\nFor more i
 nformation visit http://neighborsforneighbors.org/events/allston-place
 s-worth
DTSTART:20110623T220000Z
DTEND:20110623T233000Z
CATEGORIES:workshop
LOCATION:Honan-Allston Branch Library
WEBSITE:http://www.bostonpreservation.org/programs/upcoming-events.htm
 l#AllstonWorkshop
URL:http://www.bostonpreservation.org/programs/upcoming-events.html#Al
 lstonWorkshop
CONTACT:617-367-2458
ORGANIZER;CN="Boston Preservation Alliance":http://neighborsforneighbo
 rs.org/profile/BostonPreservationAlliance
ATTACH;FMTTYPE="image/jpeg":
ATTENDEE;ROLE=REQ-PARTICIPANT;PARTSTAT=ACCEPTED;RSVP=TRUE;CN="Boston P
 reservation Alliance":http://neighborsforneighbors.org/profile/BostonP
 reservationAlliance
END:VEVENT
END:VCALENDAR
