BEGIN:VCALENDAR
PRODID:NingEventWidget-v1
VERSION:2.0
METHOD:PUBLISH
BEGIN:VEVENT
UID:1171189:Event:47172
DTSTAMP:20260421T182412Z
SUMMARY:Allston-Brighton NFN social
DESCRIPTION:If anyone is in the Allston-Brighton area this weekend tak
 e a look below for details on a NfN social:\n\nIt’s our first Neighb
 ors for Neighbors Allston Brighton social!\nWhen: Saturday, June 26 at
  2 pm.\nWhere: Irish Village, 224 Market Street. http://irishvillagebr
 ighton.com/\n*No RSVP required & no fee to enter.\ns\nWe look forward 
 to watching the finals with you! Please email Christina at ctramontozz
 i@neighborsforneighbors.org with questions.\n\nFor more information vi
 sit http://neighborsforneighbors.org/events/allstonbrighton-nfn-social
DTSTART:20100626T180000Z
DTEND:20100626T210000Z
CATEGORIES:social, soccer, world, cup
LOCATION:Irish Village Pub
WEBSITE:
URL:
CONTACT:
ORGANIZER:Christina Tramontozzi
ATTACH;FMTTYPE="image/jpeg":
ATTENDEE;ROLE=REQ-PARTICIPANT;PARTSTAT=ACCEPTED;RSVP=TRUE;CN="Alexande
 r Gray":http://neighborsforneighbors.org/profile/AlexanderGray
END:VEVENT
END:VCALENDAR
