BEGIN:VCALENDAR
PRODID:NingEventWidget-v1
VERSION:2.0
METHOD:PUBLISH
BEGIN:VEVENT
UID:1171189:Event:104859
DTSTAMP:20260421T203854Z
SUMMARY:An Afternoon With Mignarda
DESCRIPTION:Mignarda, American lute song duo Ron Andrico, lute, and Do
 nna Stewart, mezzo-soprano, join the Sunday Parlor Concert Series at t
 he Loring Greenough House, on Sunday, November 17, 2013, at 3:00 p.m.,
  at the historic Loring-Greenough House, 12 South Street, Jamaica Plai
 n MA.  Mignarda's concert program offers a snapshot of their first te
 n years as a duo with music excerpted from their award-winning recordi
 ng of 17th century French music, Divine Amarillis (2005), a sampling f
 rom their ninth and latest CD, John Dowland: A Pilgrimes Solace (April
  2013), and a preview of current projects including music for voice an
 d lute composed in the 21st century.America's premiere professional lu
 te song duo, Mignarda specializes in thoughtful programming that illum
 inates the vibrant mingling of renaissance music and poetry.  Noted f
 or awakening modern audiences to an appreciation for historical music,
  their work encompasses concertizing, teaching and recording, with 9 c
 ritically-acclaimed CDs.  Mignarda's publications include a series of
  12 music  editions, many scholarly articles, reviews and the interna
 tionally-popular blog, Unquiet Thoughts. The couple met in a schola pr
 oviding liturgical music for the Latin Tridentine Mass, and they conti
 nue their dedication to historical sacred and secular music.  Based i
 n forested upstate NY, Mignarda is currently celebrating their 10th ye
 ar as a duo. Together, the duo specialize in performing music that res
 ides in the grey zone between folk and art music, with interpretations
  that follow the renaissance ideal of 'moving the passions' of the lis
 tener.  For further information, visit http://www.mignarda.com. Meet 
 the artists at afternoon tea following the program.          
      The Sunday Afternoon at the ‘Greenough House series recreat
 es the atmosphere of 18th and 19th century “musical afternoons” in
  the 1760 Loring-Greenough House, twice monthly, October to May. Ticke
 ts are available at the door: donation $15 ($10 seniors, students and 
 JPTC members). Space is limited; reservations are suggested—call 617
 -524-3158 or email lghouseconcerts@aim.com.Built in 1760, the Loring-G
 reenough House, a local landmark listed on the Massachusetts and Natio
 nal Registers of Historic Places, is owned and managed by the non-prof
 it Jamaica Plain Tuesday Club, Inc. as a historic house museum and sit
 e for art and music presentations. The Loring-Greenough House is wheel
 chair accessible. For more information on the Loring-Greenough House, 
 see www.loring-greenough.org.For reservations or directions, call (617
 )524-3158, or email  lghouseconcerts@aim.com.\n\nFor more information
  visit http://neighborsforneighbors.org/events/an-afternoon-with-migna
 rda
DTSTART:20131117T200000Z
DTEND:20131117T223000Z
CATEGORIES:parlor, concert, and, tea
LOCATION:Loring-Greenough House,
WEBSITE:http://www.Loring-Greenough.org
URL:http://www.Loring-Greenough.org
CONTACT:617-524-3158
ORGANIZER;CN="Loring-Greenough House Concerts":http://neighborsforneig
 hbors.org/profile/LoringGreenoughHouseConserts
ATTACH;FMTTYPE="image/jpeg":http://storage.ning.com/topology/rest/1.0/
 file/get/2245141584?profile=original
ATTENDEE;ROLE=REQ-PARTICIPANT;PARTSTAT=ACCEPTED;RSVP=TRUE;CN="Loring-G
 reenough House Concerts":http://neighborsforneighbors.org/profile/Lori
 ngGreenoughHouseConserts
END:VEVENT
END:VCALENDAR
