BEGIN:VCALENDAR
PRODID:NingEventWidget-v1
VERSION:2.0
METHOD:PUBLISH
BEGIN:VEVENT
UID:1171189:Event:66375
DTSTAMP:20260421T212656Z
SUMMARY:Andy Reiner & Stash Wyslouch
DESCRIPTION:Andy Reiner, an award-winning fiddler and violinist from L
 exington, MA, grew up in a musical family. He began playing at age 5, 
 learning fiddle from his father Dave Reiner, a fiddle contest champion
  and author of instructional fiddle books with publisher Mel Bay. Andy
  took 13 years of classical violin lessons from Helene Kamen in Lexing
 ton, MA. Attending Mark O’Connor’s Fiddle Camp in Tennessee in ’
 97 and ’98 changed Andy’s life forever. Over many summers of fiddl
 e camps, he studied Old Time, Bluegrass, Irish, Swing, New England, an
 d other fiddle styles and repertoire, and internalized the spectrum of
  different teaching methods of the many world-class fiddlers and educa
 tors from whom he took workshops.\n\nStash is a touring musician origi
 nally from Lexington, MA but now residing in Brighton, MA and deep in 
 the music scene of Boston. You can find Stash touring nationally and i
 nternationally as a vocalist, guitarist and songwriter in bands such a
 s \"Blue Moose and the Unbuttoned Zippers\" whose debut album 'Rousted
 ' is being released in September featuring many of Stash's original co
 mpositions, or in the band \"The Boston Boys\" whose made appearances 
 at festivals such as Grey Fox Bluegrass Festival and recently the New 
 Bedford Summerfest. Stash also tours nationally and internationally wi
 th the band \"The Deadly Gentlemen\" fronted by Greg Liszt, banjo play
 er of the band 'Crooked Still' and former banjo player of Bruce Spring
 steen in 2006, whose album \"Carry Me To Home\" is in the process of b
 eing released after spending a grueling summer recording in studios ac
 ross all of the United States.\n\nArtist’s websites\nStash - http://
 www.myspace.com/stashwyslouch\nAndy - http://www.andyreiner.com/\nBMUZ
  ~ http://www.bmuz.net/BMUZ/home.html\n\nFor more information visit ht
 tp://neighborsforneighbors.org/events/andy-reiner-stash-wyslouch
DTSTART:20110225T010000Z
DTEND:20110225T033000Z
CATEGORIES:concert
LOCATION:Loring-Greenough House
WEBSITE:
URL:
CONTACT:7742931251
ORGANIZER;CN="Jeff Boudreau":http://neighborsforneighbors.org/profile/
 JeffBoudreau
ATTACH;FMTTYPE="image/jpeg":http://storage.ning.com/topology/rest/1.0/
 file/get/2058919298?profile=original
ATTENDEE;ROLE=REQ-PARTICIPANT;PARTSTAT=ACCEPTED;RSVP=TRUE;CN="Jeff Bou
 dreau":http://neighborsforneighbors.org/profile/JeffBoudreau
END:VEVENT
END:VCALENDAR
