BEGIN:VCALENDAR
PRODID:NingEventWidget-v1
VERSION:2.0
METHOD:PUBLISH
BEGIN:VEVENT
UID:1171189:Event:75581
DTSTAMP:20260421T232213Z
SUMMARY:Annual Appraisal Day at Loring-Greenough House
DESCRIPTION:Bring those antique and art treasures, heirlooms and flea 
 market finds and have them evaluated by professional appraisers:Edward
  Stanley, Edward Stanley Appraisal ServicesPatrick Byrne, Cobwebs Anti
 ques Bring up to 3 items to be appraised - or just come and watch. Th
 ere are sure to be some exciting discoveries! Only $10.00 per item for
  appraisal or $25 for 3 items. All proceeds benefit the Preservation 
 Fund of the Loring-Greenough House12 South Street, Jamaica Plain, Mass
 achusettsFor additional information: info@loring-greenough.orgwww.lori
 ng-greenough.org\n \n(Please note: Jewelry, stamps and coins cannot b
 e evaluated.)\n\nFor more information visit http://neighborsforneighbo
 rs.org/events/annual-appraisal-day-at
DTSTART:20110625T170000Z
DTEND:20110625T200000Z
CATEGORIES:antiques, appraisal
LOCATION:Loring-Greenough House
WEBSITE:http://www.loring-greenough.org
URL:http://www.loring-greenough.org
CONTACT:
ORGANIZER:Loring-Greenough House
ATTACH;FMTTYPE="image/jpeg":http://storage.ning.com/topology/rest/1.0/
 file/get/2245134739?profile=original
ATTENDEE;ROLE=REQ-PARTICIPANT;PARTSTAT=ACCEPTED;RSVP=TRUE;CN="Frances 
 Harrell":http://neighborsforneighbors.org/profile/FrancesHarrell
END:VEVENT
END:VCALENDAR
