BEGIN:VCALENDAR
PRODID:NingEventWidget-v1
VERSION:2.0
METHOD:PUBLISH
BEGIN:VEVENT
UID:1171189:Event:78246
DTSTAMP:20260421T190509Z
SUMMARY:Annual International Concert: Refugee Immigration Ministry
DESCRIPTION:Refugee Immigration Ministry is a community-based, interfa
 ith non-profit working throughout Eastern Massachusetts, including Ca
 mbridge. For more information, please visit www.r-i-m.net.\nOur Annual
  International Concert will feature the music and voices of many, incl
 uding the Islamic Call to Prayer, Hallilisa Chorus, Kirtan from the Ne
 w England Sikh Study Circle, The Other Georgia, Cambridge Peace and Ju
 stice Choir, Classical Indian Singer Warren Senders, and the First Chu
 rch Cambridge Choir. Tickets are available at http://rimconcert2011.ev
 entbrite.com/\n\nFor more information visit http://neighborsforneighbo
 rs.org/events/annual-international-concert-refugee-immigration-ministr
 y
DTSTART:20110921T230000Z
DTEND:20110922T010000Z
CATEGORIES:concert
LOCATION:First Congregational Church
WEBSITE:http://maps.google.com/maps/place?q=11+Garden+St.,+Cambridge,+
 MA&hl=en&ftid=0x89e3776996a9053f:0x4f07e55daad4a196
URL:http://maps.google.com/maps/place?q=11+Garden+St.,+Cambridge,+MA&h
 l=en&ftid=0x89e3776996a9053f:0x4f07e55daad4a196
CONTACT:781-322-1011
ORGANIZER:Refugee Immigration Ministry
ATTACH;FMTTYPE="image/jpeg":http://storage.ning.com/topology/rest/1.0/
 file/get/2245130814?profile=original
ATTENDEE;ROLE=REQ-PARTICIPANT;PARTSTAT=ACCEPTED;RSVP=TRUE;CN="Amy C":h
 ttp://neighborsforneighbors.org/profile/AmyC
ATTENDEE;ROLE=REQ-PARTICIPANT;PARTSTAT=ACCEPTED;RSVP=TRUE;CN=Jen:http:
 //neighborsforneighbors.org/profile/Jen
END:VEVENT
END:VCALENDAR
