BEGIN:VCALENDAR
PRODID:NingEventWidget-v1
VERSION:2.0
METHOD:PUBLISH
BEGIN:VEVENT
UID:1171189:Event:70602
DTSTAMP:20260421T202311Z
SUMMARY:Annual Plant Sale at Loring-Greenough House
DESCRIPTION:We're going to have many beautiful donated plants, and all
  proceeds will go toward the maintenance and restoration of the histor
 ic landscape. Please pass this on to anyone who might be interested. I
 f you'd like to donate plants, please bring them to the house on May 1
 3th.\nRain date: May 15th.\n\n\n\n\n\n\n\n\n\n\n\n\n\n\n\n\n\n\n\n\n\n
 \n\n\n\nFor more information visit http://neighborsforneighbors.org/ev
 ents/annual-plant-sale-at
DTSTART:20110514T130000Z
DTEND:20110514T190000Z
CATEGORIES:fundraiser
LOCATION:Loring-Greenough House
WEBSITE:http://www.loring-greenough.org
URL:http://www.loring-greenough.org
CONTACT:
ORGANIZER:the Tuesday Club
ATTACH;FMTTYPE="image/jpeg":http://storage.ning.com/topology/rest/1.0/
 file/get/2058919294?profile=original
ATTENDEE;ROLE=REQ-PARTICIPANT;PARTSTAT=ACCEPTED;RSVP=TRUE;CN=Marie:htt
 p://neighborsforneighbors.org/profile/Marie
END:VEVENT
END:VCALENDAR
