BEGIN:VCALENDAR
PRODID:NingEventWidget-v1
VERSION:2.0
METHOD:PUBLISH
BEGIN:VEVENT
UID:1171189:Event:40908
DTSTAMP:20260421T201821Z
SUMMARY:APR 20th: ANIMATION!
DESCRIPTION:For our eighth screening the Loring-Greenough House presen
 ts a program of fantastic locally-made animation!! Come by around 7 pm
  for cookies and refreshments, and the screening will begin, as usual,
  sometime around 7:30.\n\nAll works will be shown on video with the ex
 ception of Dan Sousa's Minotaur (16mm).\n\nHere is our sweet line-up..
 .\n\nDANIEL ROWE\nTravis\n\nSTEVE SUBOTNICK\nHairyman\nGlass Crow\nJel
 ly Fishers\n\nMATTHEW NEWMAN-LONG\nAnd What We Move Is Dead\nyear of h
 is birth, diaries and animation\n\nALAN JENNINGS\nRunning in Darkness\
 n\nAMY KRAVITZ\nRiver Lethe\n\nRUTH LINGFORD\nLittle Deaths\n\nDAN SOU
 SA\nThe Windmill\nDrift\nThe Minotaur\n\n...with the possibility of a 
 couple surprise additions!\n\nFor more information visit http://neighb
 orsforneighbors.org/events/apr-20th-animation
DTSTART:20100420T230000Z
DTEND:20100421T020000Z
CATEGORIES:animation, screening
LOCATION:Loring-Greenough House
WEBSITE:http://lghfilm.blogspot.com
URL:http://lghfilm.blogspot.com
CONTACT:
ORGANIZER;CN=Marie:http://neighborsforneighbors.org/profile/Marie
ATTACH;FMTTYPE="image/jpeg":http://storage.ning.com/topology/rest/1.0/
 file/get/2245129106?profile=original
ATTENDEE;ROLE=REQ-PARTICIPANT;PARTSTAT=ACCEPTED;RSVP=TRUE;CN=Marie:htt
 p://neighborsforneighbors.org/profile/Marie
END:VEVENT
END:VCALENDAR
