BEGIN:VCALENDAR
PRODID:NingEventWidget-v1
VERSION:2.0
METHOD:PUBLISH
BEGIN:VEVENT
UID:1171189:Event:106093
DTSTAMP:20260421T222810Z
SUMMARY:Argentine Tango Crash Course
DESCRIPTION:Learn the basics in one night!\n\n\nWednesday, February 12
 , 2014\n\n\n\n6:30pm until 9:30pm\n\n\n\n\n\n\nMOVIMIENTO, at SoWa G
 alleries, 450 Harrison ave #61 on the courtyard at Thayer, Boston's so
 uth end\n\n\n\n\n\n\n\n NO dance experience, nor partner required!   N
 ext one: Wednesday, FEBRUARY 12th. 6:30-9:30p   The underworld of aut
 hentic Argentine Tango is a fascinating place.  You dance with friend
 s and strangers for hours knowing only the magic of improvisation and 
 mutual dance dialog. To accomplish this, each partner learns a languag
 e that is universal, but combines infinitely, and communicates clearly
 .  You can dance tango in venues across the city and world-wide.  Th
 is crash course will teach those skills. We will learn the basic eleme
 nts, practice drills, and work on movement quality as well as partner 
 connection. The musical structures of Argentine Tango will be introduc
 ed.  We prepare you for your Tango future when the Tango dancer elabo
 rates their own construction of the dance and followers participate wi
 th their special musical energy and influence. The dance communicates 
 sensuality, emotion, and power. Argentine Tango celebrates connection.
    This a semi-private intensive so please contact me before attendin
 g if possible.    SCHEDULE: Session One: 6:30-7:50 -break-10 min  S
 ession Two: 8:00- 9:30 9:30 to 10p Supervised Practice/Coaching sessio
 n (optional).   REGISTRATION and PRICING $45 with pre-registration on
 e week in advance At the door: $55 a person or $100 for 2 people signi
 ng up together. Student Discounts avaialble  To Register: Contact AnaL
 inda directly for payment, registration or further information: cell 6
 17 512-0430, email: AnaLinda@tangoembrace.com  LOCATION 450 Harrison a
 venue, #61, at Thayer Courtyard, South End, Boston There is plenty of 
 available street parking on Randolph street, a cross street 1 Block aw
 ay!  PRIVATE LESSONS are also available at reasonable rates for indivi
 duals or couples at this location.  MOVIMIENTO 450 Harrison ave #61, (
 lower outdoor Mezzanine) SoWa-Galleries South End   Happy dancing!\n\n
 \n\n\n\n\nFor more information visit http://neighborsforneighbors.org/
 events/argentine-tango-crash-course
DTSTART:20140212T233000Z
DTEND:20140213T023000Z
CATEGORIES:dance, class, "(tango)"
LOCATION:SoWa
WEBSITE:https://www.facebook.com/events/686365191407641/
URL:https://www.facebook.com/events/686365191407641/
CONTACT:
ORGANIZER:AnaLinda Marcus
ATTACH;FMTTYPE="image/jpeg":
ATTENDEE;ROLE=REQ-PARTICIPANT;PARTSTAT=ACCEPTED;RSVP=TRUE;CN="Nancy Ba
 rron":http://neighborsforneighbors.org/profile/NancyBarron
END:VEVENT
END:VCALENDAR
