BEGIN:VCALENDAR
PRODID:NingEventWidget-v1
VERSION:2.0
METHOD:PUBLISH
BEGIN:VEVENT
UID:1171189:Event:27035
DTSTAMP:20260421T101432Z
SUMMARY:Art Opening at The Hallway gallery
DESCRIPTION:Come join jp's newest art gallery for an august opening fe
 aturing local artists...\n\nDAN HARTSHORN\nMASSIMO MONGIARDO\nTONY OLI
 VETO\nBRENT REFSLAND\nJOHN MARTINO\nAARON KOVALCSIK\n\nalong with loca
 l music talent...\n\nOLD NEW ENGLAND WEATHER\n\n1ST THURSDAY AUGUST 6T
 H\n\n6PM-LATE\n\nHOPE TO SEE YOU THERE!!\n\nFor more information visit
  http://neighborsforneighbors.org/events/art-opening-at-the-hallway
DTSTART:20090806T220000Z
DTEND:20090807T030000Z
CATEGORIES:art, opening
LOCATION:THE HALLWAY GALLERY
WEBSITE:http://www.thehallwayjp.com
URL:http://www.thehallwayjp.com
CONTACT:617-818-5996
ORGANIZER;CN="Brent Refsland":http://neighborsforneighbors.org/profile
 /BrentRefsland
ATTACH;FMTTYPE="image/jpeg":http://storage.ning.com/topology/rest/1.0/
 file/get/2245118737?profile=original
ATTENDEE;ROLE=REQ-PARTICIPANT;PARTSTAT=ACCEPTED;RSVP=TRUE;CN="Brent Re
 fsland":http://neighborsforneighbors.org/profile/BrentRefsland
END:VEVENT
END:VCALENDAR
