BEGIN:VCALENDAR
PRODID:NingEventWidget-v1
VERSION:2.0
METHOD:PUBLISH
BEGIN:VEVENT
UID:1171189:Event:63301
DTSTAMP:20260421T203952Z
SUMMARY:Art Show at MA State House
DESCRIPTION:Representative Jeffrey Sanchez will be hosting an art show
  for Jamaica Plain resident Carla Osberg. Free and open to the public.
 \n \nMA State House, Room 130. Tuesday February 10, 4-6pm\n\nFor mor
 e information visit http://neighborsforneighbors.org/events/art-show-a
 t-ma-state-house
DTSTART:20110210T210000Z
DTEND:20110210T230000Z
CATEGORIES:art, show
LOCATION:MA State House
WEBSITE:
URL:
CONTACT:617-722-2130
ORGANIZER;CN="State Rep. Jeffrey Sánchez":http://neighborsforneighbor
 s.org/profile/StateRepJeffreySanchez
ATTACH;FMTTYPE="image/jpeg":http://storage.ning.com/topology/rest/1.0/
 file/get/2245132096?profile=original
ATTENDEE;ROLE=REQ-PARTICIPANT;PARTSTAT=ACCEPTED;RSVP=TRUE;CN="State Re
 p. Jeffrey Sánchez":http://neighborsforneighbors.org/profile/StateRep
 JeffreySanchez
END:VEVENT
END:VCALENDAR
