BEGIN:VCALENDAR
PRODID:NingEventWidget-v1
VERSION:2.0
METHOD:PUBLISH
BEGIN:VEVENT
UID:1171189:Event:92337
DTSTAMP:20260421T214910Z
SUMMARY:Ashmont Hill Chamber Music
DESCRIPTION:Ashmont Hill Chamber Music opens their 27th season on Sund
 ay, December 9th at 3 PM with a free concert in Dorchester, performing
  Beethoven, Schulhoff, Sibelius, and Schumann. The concert will be hel
 d in Peabody Hall at Ashmont’s historic All Saints Church. The Ashm
 ont Hill Chamber Music players for this performance include violinist 
 Gabriela Diaz, cellist Jan Müller-Szeraws, and Artistic Director and 
 pianist Rachel Goodwin. \n\nFor more information visit http://neighbo
 rsforneighbors.org/events/ashmont-hill-chamber-music
DTSTART:20121209T200000Z
DTEND:20121209T220000Z
CATEGORIES:"free music concert"
LOCATION:Peabody Hall at Ashmont’s historic All Saints Church
WEBSITE:http://ashmonthillchambermusic.org
URL:http://ashmonthillchambermusic.org
CONTACT:617-680-7542
ORGANIZER;CN="Charles McEnerney":http://neighborsforneighbors.org/prof
 ile/CharlesMcEnerney
ATTACH;FMTTYPE="image/jpeg":http://storage.ning.com/topology/rest/1.0/
 file/get/2245140292?profile=original
ATTENDEE;ROLE=REQ-PARTICIPANT;PARTSTAT=ACCEPTED;RSVP=TRUE;CN="Charles 
 McEnerney":http://neighborsforneighbors.org/profile/CharlesMcEnerney
END:VEVENT
END:VCALENDAR
