BEGIN:VCALENDAR
PRODID:NingEventWidget-v1
VERSION:2.0
METHOD:PUBLISH
BEGIN:VEVENT
UID:1171189:Event:50249
DTSTAMP:20260421T194034Z
SUMMARY:August First Thursday featuring Rick Berlin!
DESCRIPTION:JP's monthly art stroll featuring over 30 art exhibits, li
 ve music and entertainment including Rick Berlin at the Loring Greenou
 gh House. All events are free!\n\nFor more information visit http://ne
 ighborsforneighbors.org/events/august-first-thursday
DTSTART:20100805T220000Z
DTEND:20100806T000000Z
CATEGORIES:art, "&", entertainment
LOCATION:Centre & South Streets, JP
WEBSITE:http://www.jpfirstthursdays.blogspot.com
URL:http://www.jpfirstthursdays.blogspot.com
CONTACT:
ORGANIZER:JP Centre/South Main Streets
ATTACH;FMTTYPE="image/jpeg":http://storage.ning.com/topology/rest/1.0/
 file/get/2202583848?profile=original
ATTENDEE;ROLE=REQ-PARTICIPANT;PARTSTAT=ACCEPTED;RSVP=TRUE;CN="Lynda Wa
 tson":http://neighborsforneighbors.org/profile/LyndaWatson
END:VEVENT
END:VCALENDAR
