BEGIN:VCALENDAR
PRODID:NingEventWidget-v1
VERSION:2.0
METHOD:PUBLISH
BEGIN:VEVENT
UID:1171189:Event:37122
DTSTAMP:20260421T231949Z
SUMMARY:Backyard Birdkeeping Basics
DESCRIPTION:In this birdkeeping 101 class, Joan Teebagy will share the
  basic how-tos of safely rearing chickens in urban and suburban enviro
 nments. She will touch upon the legal side of poultry-rearing, and dis
 cuss local city codes and recent citizen-backed changes to ordinances.
 \n\nFor more information visit http://neighborsforneighbors.org/events
 /backyard-birdkeeping-basics
DTSTART:20100314T190000Z
DTEND:20100314T210000Z
CATEGORIES:workshop
LOCATION:First Church in Jamaica Plain UU, 6 Eliot Street (Across from
  the monument)
WEBSITE:
URL:
CONTACT:
ORGANIZER;CN="Liz W.":http://neighborsforneighbors.org/profile/LizW
ATTACH;FMTTYPE="image/jpeg":http://storage.ning.com/topology/rest/1.0/
 file/get/2245123373?profile=original
ATTENDEE;ROLE=REQ-PARTICIPANT;PARTSTAT=ACCEPTED;RSVP=TRUE;CN="Liz W.":
 http://neighborsforneighbors.org/profile/LizW
END:VEVENT
END:VCALENDAR
