BEGIN:VCALENDAR
PRODID:NingEventWidget-v1
VERSION:2.0
METHOD:PUBLISH
BEGIN:VEVENT
UID:1171189:Event:104803
DTSTAMP:20260421T185830Z
SUMMARY:Bay State Model Railroad Museum
DESCRIPTION:On the weekend of December 7th and 8th, The Bay State Mod
 el Railroad Museum will open for its only public showing of the year.
  They will also host Santa and the Holiday Train Show from 11:00AM to 
 3:00PM. Santa will arrive in elegant style promptly at 12:00 noon on 
 Sunday December 8th. \n\nFor more information visit http://neighborsf
 orneighbors.org/events/bay-state-model-railroad-museum
DTSTART:20131207T160000Z
DTEND:20131208T200000Z
CATEGORIES:museum, opening
LOCATION:Roslindale Village
WEBSITE:
URL:
CONTACT:6173274065
ORGANIZER;CN="Ben Sommer":http://neighborsforneighbors.org/profile/Ben
 Sommer
ATTACH;FMTTYPE="image/jpeg":
ATTENDEE;ROLE=REQ-PARTICIPANT;PARTSTAT=ACCEPTED;RSVP=TRUE;CN="Ben Somm
 er":http://neighborsforneighbors.org/profile/BenSommer
END:VEVENT
END:VCALENDAR
