BEGIN:VCALENDAR
PRODID:NingEventWidget-v1
VERSION:2.0
METHOD:PUBLISH
BEGIN:VEVENT
UID:1171189:Event:76745
DTSTAMP:20260421T222805Z
SUMMARY:Beach for Justice
DESCRIPTION:Looking to meet like-minded progressives while working on 
 your tan? Well, bring your sunscreen - we'll be soaking up the sun for
  justice at Carson Beach in 600 William Day Boulevard, South Boston on
  Sunday, July 24th! Check out photos from past ( http://sojust.org/pho
 tos ) Beach for Justice events!We'll be there from 11am-1:30pm so stop
  by anytime. We'll be the gaggle of folks having fun in front of the f
 irst parking lot! Join us and you'll get the chance to meet our new in
 tern, Alex. She and SoJust regulars (aka SoJust STARZ) will be on hand
  to meet newcomers. Plan ahead and bring snacks to share or get someth
 ing at the snack bar. This is definitely a family-friendly event - dog
 s are welcome too!RSVP at http://www.sojust.org - Newcomers always wel
 comed!Fee: $2 cash.Never been to Carson Beach? Check out all the ameni
 ties http://bit.ly/bR8zVE! DIRECTIONS: Take the Red Line to JFK/UMass.
  Exit the station to your right. Take the second exit of the rotary (o
 r go straight through) and walk towards the beach. * Public Parking: F
 ree public parking is available. * Bus: Take MBTA Route 5, 8, 11, 16, 
 or 41._________________________________________________________Sociali
 zing for Justice - http://sojust.org Since 2006, we've been building t
 his great sandbox where we can bring progressives of all stripes toget
 her and try out new ideas in this \"Movement Moment\". Spaces like thi
 s are crucial as we start to reframe and build new visions for our mov
 ement(s).With over 1750 members and almost 5 years of creating a diver
 se cross-issue community in Boston (95+ events!), Socializing for Just
 ice is the best place to find the great people, organizations and comm
 unity you're looking for while putting the SOCIAL back in social justi
 ce.Wanna know more about SoJust? Check out our Frequently Asked Questi
 ons and past event photos on http://sojust.org.Follow us on Twitter: h
 ttp://twitter.com/sojust and http://twitter.com/Robbiesamuels.\n\nFor 
 more information visit http://neighborsforneighbors.org/events/beach-f
 or-justice
DTSTART:20110724T150000Z
DTEND:20110724T173000Z
CATEGORIES:social, networking
LOCATION:Carson Beach, South Boston
WEBSITE:http://sojust.org
URL:http://sojust.org
CONTACT:
ORGANIZER;CN="Socializing for Justice":http://neighborsforneighbors.or
 g/profile/SocializingforJustice71
ATTACH;FMTTYPE="image/jpeg":http://storage.ning.com/topology/rest/1.0/
 file/get/2245135155?profile=original
ATTENDEE;ROLE=REQ-PARTICIPANT;PARTSTAT=ACCEPTED;RSVP=TRUE;CN="Socializ
 ing for Justice":http://neighborsforneighbors.org/profile/Socializingf
 orJustice71
END:VEVENT
END:VCALENDAR
