BEGIN:VCALENDAR
PRODID:NingEventWidget-v1
VERSION:2.0
METHOD:PUBLISH
BEGIN:VEVENT
UID:1171189:Event:82443
DTSTAMP:20260421T203050Z
SUMMARY:Bearings Repair Class
DESCRIPTION:Bearings wearing? Learn how to adjust your hub and bottom 
 bracket. This is a hands-on repair class; bring your bicycle! $30/pers
 on. Register in the shop or call 617-524-2453.\n\nFor more information
  visit http://neighborsforneighbors.org/events/bearings-repair-class
DTSTART:20111103T231500Z
DTEND:20111104T021500Z
CATEGORIES:"repair class", "bike repair class"
LOCATION:Ferris Wheels Bike Shop
WEBSITE:http://www.ferriswheelsbikeshop.com
URL:http://www.ferriswheelsbikeshop.com
CONTACT:617-524-2453
ORGANIZER;CN="Ferris Wheels Bike Shop":http://neighborsforneighbors.or
 g/profile/FerrisWheelsBikeShop
ATTACH;FMTTYPE="image/jpeg":http://storage.ning.com/topology/rest/1.0/
 file/get/2245136142?profile=original
ATTENDEE;ROLE=REQ-PARTICIPANT;PARTSTAT=ACCEPTED;RSVP=TRUE;CN="Ferris W
 heels Bike Shop":http://neighborsforneighbors.org/profile/FerrisWheels
 BikeShop
END:VEVENT
END:VCALENDAR
