BEGIN:VCALENDAR
PRODID:NingEventWidget-v1
VERSION:2.0
METHOD:PUBLISH
BEGIN:VEVENT
UID:1171189:Event:56873
DTSTAMP:20260421T212739Z
SUMMARY:Bella Luna Restaraunt & Milky Way Lounge Celebrate 17 years of
  creating community
DESCRIPTION:On Friday, November 12, Bella Luna Restaurant & the Milky 
 Way Lounge will be celebrating our 17 year anniversary in Jamaica Plai
 n, Massachusetts. As a thank you to the citywide family that has suppo
 rted us all these years, we are proud to offer a week of free delectab
 les and fun.\n\nThe Milky Way Lounge, Time Out Boston, Harpoon Brewery
  and John Dewar & Sons proudly present a night of free live music at J
 amaica Plain's historic Haf...fenreffer brewery featuring Zili Misik. 
 An all-female, Boston-based ensemble, Zili Misik retraces routes of fo
 rced exile and cultural resistance through diasporic rhythm and song. 
 Powerful Haitian, Brazilian and West African rhythms infuse Zili's ori
 ginal creations and traditional folksongs. Reconnecting Haitian mizik 
 rasin, Jamaican roots reggae, Afro-Brazilian samba, Afro-Cuban son, an
 d African American spirituals, blues, jazz and neo soul, Zili Misik ho
 nors its influences while creating a sound that is uniquely its own: N
 ew World Soul. The women of this group have heritages and roots repres
 enting 5 countries and 3 continents. Time Out Boston will be in the ho
 use with a photo-booth to snap pictures of you, our community members.
  Admission is free, but we are suggesting a $3 donation to raise funds
  for the Hyde Square Task Force - an organization helping to diminish 
 negative stereotypes of urban youth with their positive energy and ded
 ication to improving their community.\n\nAlso in celebration of our bi
 rthday week, Bella Luna Restaurant will be providing a complimentary h
 omemade dessert with the purchase of an entrée, Monday, November 15 t
 hrough Saturday, November 20. Surround yourself with a sci-fi inspired
  riot of color - star lights, hand painted plates, red walls and a gli
 ttery quartz bar. Additionally, this season we are proud to feature th
 e work of local artist Chris Plunkett, whose vibrant tree portraits br
 ighten up our dining room. So come on in, enjoy our delicious food and
  beverage offerings, and join us in creating and supporting our commun
 ity.\n\nFor more information visit http://neighborsforneighbors.org/ev
 ents/bella-luna-restaraunt-milky
DTSTART:20101113T020000Z
DTEND:20101113T060000Z
CATEGORIES:birthday, party, live, music, zili, misik, photography, cel
 ebration, free
LOCATION:Bella Luna Restaurant & Milky Way Lounge
WEBSITE:http://www.milkywayjp.com
URL:http://www.milkywayjp.com
CONTACT:617-524-3740
ORGANIZER;CN="Carol Downs":http://neighborsforneighbors.org/profile/Ca
 rolDowns
ATTACH;FMTTYPE="image/jpeg":http://storage.ning.com/topology/rest/1.0/
 file/get/2245131095?profile=original
ATTENDEE;ROLE=REQ-PARTICIPANT;PARTSTAT=ACCEPTED;RSVP=TRUE;CN="Joseph P
 orcelli (Chief Neighbor)":http://neighborsforneighbors.org/profile/jos
 ephporcelli
ATTENDEE;ROLE=REQ-PARTICIPANT;PARTSTAT=ACCEPTED;RSVP=TRUE;CN="Carol Do
 wns":http://neighborsforneighbors.org/profile/CarolDowns
END:VEVENT
END:VCALENDAR
