BEGIN:VCALENDAR
PRODID:NingEventWidget-v1
VERSION:2.0
METHOD:PUBLISH
BEGIN:VEVENT
UID:1171189:Event:38271
DTSTAMP:20260421T184308Z
SUMMARY:Benefit for the Matenwa School in Haiti - w/speaker Tracy Kidd
 er
DESCRIPTION:Invitation is attached. Evening includes heavy appetizers,
  Haitian music and art, and a talk by author Tracy Kidder. All proceed
 s benefit the Matenwa School: www.matenwaclc.org. Ticket information i
 s within the invitation, or on the website. Hope you can make it!\n\nF
 or more information visit http://neighborsforneighbors.org/events/bene
 fit-for-the-matenwa-school
DTSTART:20100508T223000Z
DTEND:20100509T013000Z
CATEGORIES:fundraiser
LOCATION:Fayerweather Street School, Cambridge, MA
WEBSITE:
URL:
CONTACT:
ORGANIZER;CN="Jen Wickham":http://neighborsforneighbors.org/profile/Je
 nWickham
ATTACH;FMTTYPE="image/jpeg":
ATTENDEE;ROLE=REQ-PARTICIPANT;PARTSTAT=ACCEPTED;RSVP=TRUE;CN="Jen Wick
 ham":http://neighborsforneighbors.org/profile/JenWickham
END:VEVENT
END:VCALENDAR
