BEGIN:VCALENDAR
PRODID:NingEventWidget-v1
VERSION:2.0
METHOD:PUBLISH
BEGIN:VEVENT
UID:1171189:Event:41449
DTSTAMP:20260421T215413Z
SUMMARY:Bike Movie Night: Quicksilver
DESCRIPTION:Quicksilver (Kevin Bacon, 1986). Corporate big-shot Jack C
 asey drops out of the corporate rat race and becomes a bike messenger.
  He likes the freedom of riding the streets, not wearing a suit and ti
 e, and moving freely through the city as a free-lance observer. PG.\nF
 REE. Soda and popcorn. Co-sponsored by Boston City Councilor John Tobi
 n and Ferris Wheels Bike Shop.\n\nFor more information visit http://ne
 ighborsforneighbors.org/events/bike-movie-night-quicksilver
DTSTART:20100514T223000Z
DTEND:20100515T000000Z
CATEGORIES:movie
LOCATION:Curtis Hall Community Center
WEBSITE:http://maps.google.com/maps?f=q&source=s_q&hl=en&geocode=&q=20
 +south+street,+jamaica+plain,+ma+02130&sll=37.0625,-95.677068&sspn=35.
 547176,56.513672&ie=UTF8&hq=&hnear=20+South+St,+Boston,+Suffolk,+Massa
 chusetts+02130&t=h&z=16
URL:http://maps.google.com/maps?f=q&source=s_q&hl=en&geocode=&q=20+sou
 th+street,+jamaica+plain,+ma+02130&sll=37.0625,-95.677068&sspn=35.5471
 76,56.513672&ie=UTF8&hq=&hnear=20+South+St,+Boston,+Suffolk,+Massachus
 etts+02130&t=h&z=16
CONTACT:617-635-5193
ORGANIZER;CN="Ferris Wheels Bike Shop":http://neighborsforneighbors.or
 g/profile/FerrisWheelsBikeShop
ATTACH;FMTTYPE="image/jpeg":http://storage.ning.com/topology/rest/1.0/
 file/get/2245129124?profile=original
ATTENDEE;ROLE=REQ-PARTICIPANT;PARTSTAT=ACCEPTED;RSVP=TRUE;CN="Ferris W
 heels Bike Shop":http://neighborsforneighbors.org/profile/FerrisWheels
 BikeShop
END:VEVENT
END:VCALENDAR
