BEGIN:VCALENDAR
PRODID:NingEventWidget-v1
VERSION:2.0
METHOD:PUBLISH
BEGIN:VEVENT
UID:1171189:Event:96385
DTSTAMP:20260421T203854Z
SUMMARY:Bikes (motorcycles) for Beds
DESCRIPTION:The Wish Project of Lowell, a privately-funded home and ba
 by goods bank, helping the needy gain independence and thrive, by proc
 uring donations and partnering with other area agencies, announces the
  third annual Bike for Beds Poker Run benefit to be held on May 18th a
 t 10:15 a.m. Area motorcyclists are invited to ride more than 45 miles
  from Dracut to Auburn, N.H. to Hudson, N.H. to help buy beds for fami
 lies in need.\n“On any given night, more than 100 local children sle
 ep on the floor because families cannot afford to buy beds,” said Do
 nna Hunnewell, Founder/Executive Director of the Wish Project. “The 
 Bikes for Beds benefit will provide needy families in the Greater Lowe
 ll area with safe, comfortable places to sleep.”\nRegistration ($20)
  will begin at the Joker’s Lounge (135 Stewart St., Dracut) at 9:30 
 a.m.\nBreakfast will be served and food will be provided throughout th
 e ride. Additionally, participants will enjoy raffles, music and more.
  \n\nRoute: Leave Joker’s Lounge in Dracut at 10:15 a.m. Arrive at 
 Village Square Restaurant in Hampstead, N.H. at about 10:45 a.m. Leave
  first stop at about 10:45 a.m. and arrive at Auburn Pits in Auburn, N
 .H. at about 12 p.m. Leave second stop at about 12:45 p.m. and arrive 
 at Backstreet Grill in Hudson, N.H. at about 1:30 p.m. Leave third sto
 p at about 2:30 p.m. and arrive back at Joker’s Lounge at about 3 p.
 m.\nThe Wish Project coordinates monthly service projects and encourag
 es community fundraisers. In addition to basic items, the Wish Project
  also procures furniture and large/bulk donations from the northeast, 
 such as mattresses, clothing etc. using tractor trailers. One-time or 
 recurring monetary contributions and corporate sponsorships are also a
 ccepted. \n\n\n\nFor more information visit http://neighborsforneighb
 ors.org/events/bikes-motorcycles-for-beds
DTSTART:20130518T141500Z
DTEND:20130518T190000Z
CATEGORIES:charity, fundraiser
LOCATION:Joker's Lounge
WEBSITE:http://thewishproject.org/bikesforbeds.html
URL:http://thewishproject.org/bikesforbeds.html
CONTACT:978-441-WISH (9474)
ORGANIZER:Donna Hunnewell, Founder/Executive Director The Wish Project
ATTACH;FMTTYPE="image/jpeg":
ATTENDEE;ROLE=REQ-PARTICIPANT;PARTSTAT=ACCEPTED;RSVP=TRUE;CN="Bridget 
 Fulton-Cook":http://neighborsforneighbors.org/profile/BridgetFultonCoo
 k
END:VEVENT
END:VCALENDAR
