BEGIN:VCALENDAR
PRODID:NingEventWidget-v1
VERSION:2.0
METHOD:PUBLISH
BEGIN:VEVENT
UID:1171189:Event:69079
DTSTAMP:20260421T182121Z
SUMMARY:Bilingual intro. Meditation class -English and spanish
DESCRIPTION:A group meditation class will be taught in English and Spa
 nish simultaneously. During each class participants will learn the bas
 ic skills of how to meditate..Clase de meditacion introductoria.  Est
 a clase  le ofrecera la oportunidad de aprender la destrezas basicas
  de como meditar en grupo.\n\nFor more information visit http://neighb
 orsforneighbors.org/events/bilingual-intro-meditation
DTSTART:20110504T230000Z
DTEND:20110505T010000Z
CATEGORIES:class
LOCATION:Juan Sosa's practice offices.
WEBSITE:
URL:
CONTACT:617-983-9698
ORGANIZER;CN="Juan C. Sosa":http://neighborsforneighbors.org/profile/J
 uanCSosa
ATTACH;FMTTYPE="image/jpeg":
ATTENDEE;ROLE=REQ-PARTICIPANT;PARTSTAT=ACCEPTED;RSVP=TRUE;CN="Juan C. 
 Sosa":http://neighborsforneighbors.org/profile/JuanCSosa
ATTENDEE;ROLE=REQ-PARTICIPANT;PARTSTAT=TENTATIVE;RSVP=TRUE;CN="Adam As
 lan":http://neighborsforneighbors.org/profile/AdamAslan
END:VEVENT
END:VCALENDAR
