BEGIN:VCALENDAR
PRODID:NingEventWidget-v1
VERSION:2.0
METHOD:PUBLISH
BEGIN:VEVENT
UID:1171189:Event:92416
DTSTAMP:20260421T203759Z
SUMMARY:Billiards for Justice
DESCRIPTION:We're heading to Jillian's* for Billiard's for Justice, on
  Tuesday, November 13th, starting at 6pm.\nDon't worry if you don't ro
 ck the cue stick. Lots of people aren't that great at pool, but some S
 oJusters have claimed to have the skills. So show up for lessons, laug
 hs, or just good people. We'll have a few tables reserved from 6-8PM f
 or the pool sharks, but plenty of non-billiards hanging out as well. J
 illian's has some great appetizers, sandwiches and a full bar. So look
  no further if you want to cross-promote your events and campaigns whi
 le avoiding hitting the 8 ball, are seeking like-minded progressives t
 o play pool with in Boston, or are new to the area and looking for gro
 ups to get involved in.\n\nIf you want to build a strong cross-issue s
 ocial justice movement, SoJust is for you! How to find us: 2nd Floor -
  walk to the back past the bar, towards the pool tables.\nRSVP at http
 ://www.sojust.org - Newcomers always welcomed!\nFee: $10 ($2 suggested
  SoJust donation + $8 for billiards)\nHEY ORGANIZERS! If you're involv
 ed with a group or project and want to spread the word bring flyers - 
 there'll be lots of opportunity to schmooze and network!\n* 18+, must 
 be 21 to drink (bring ID). Venue is physically accessible. *\n*Jillian
 ’s is located at 145 Ipswitch St, Boston. Take the Green line to Ken
 more Square, bear left onto Brookline Avenue, take the second left ont
 o Lansdowne Street, at the end of the street make a left onto Ipswich 
 Street - you will see the entrance on the left hand side.\n\nHELP SPRE
 AD THE WORD!\nInvite friends to the Facebook event: http://goo.gl/5X3m
 S Join the SoJust Facebook group: http://on.fb.me/SoJust On Twitter? F
 ollow @SoJust (http://www.twitter.com/sojust and SoJust's Co-Founder @
 RobbieSamuels (http://www.twitter.com/robbiesamuels). Don’t forget t
 o tweet about this event using #sojust! ______________________________
 ___________________________\n\nSocializing for Justice - www.sojust.or
 g Since 2006, we've been building this great sandbox where we can brin
 g progressives of all stripes together and try out new ideas in this \
 "Movement Moment\".\nSpaces like this are crucial as we start to refra
 me and build new visions for our movement(s). With over 2100 members a
 nd 6+ years of creating a diverse cross-issue community in Boston, Soc
 ializing for Justice is the best place to find the great people, organ
 izations and community you're looking for while putting the SOCIAL bac
 k in social justice.\nYES, WE MEAN YOU. We've got members of all ages,
  races, genders, sexual orientations, levels of activism and professio
 ns. We hope you see someone like yourself and meet someone you otherwi
 se wouldn't have. Want to know more about SoJust? Check out our Freque
 ntly Asked Questions ( http://goo.gl/OKvoU ) and past event photos ( h
 ttp://goo.gl/oFXva ) on http://sojust.org.\n\nFor more information vis
 it http://neighborsforneighbors.org/events/billiards-for-justice-1
DTSTART:20121113T230000Z
DTEND:20121114T010000Z
CATEGORIES:networking, event, mixer, party
LOCATION:Jillian's
WEBSITE:http://www.sojust.org/events/88923762/
URL:http://www.sojust.org/events/88923762/
CONTACT:
ORGANIZER;CN="Socializing for Justice":http://neighborsforneighbors.or
 g/profile/SocializingforJustice71
ATTACH;FMTTYPE="image/jpeg":http://storage.ning.com/topology/rest/1.0/
 file/get/2245140449?profile=original
ATTENDEE;ROLE=REQ-PARTICIPANT;PARTSTAT=ACCEPTED;RSVP=TRUE;CN="Socializ
 ing for Justice":http://neighborsforneighbors.org/profile/Socializingf
 orJustice71
END:VEVENT
END:VCALENDAR
