BEGIN:VCALENDAR
PRODID:NingEventWidget-v1
VERSION:2.0
METHOD:PUBLISH
BEGIN:VEVENT
UID:1171189:Event:67250
DTSTAMP:20260421T183735Z
SUMMARY:Billiards for Justice
DESCRIPTION:We're heading to Jillian's* for Billiard's for Justice, on
  Friday, March 18, starting at 6pm.\n\nDon't worry if you don't rock t
 he cue stick. Lots of people aren't that great at pool, but some SoJus
 ters have claimed to have the skills. So show up for lessons, laughs, 
 or just good people.\n\nWe'll have a few tables reserved from 6-8PM fo
 r the pool sharks, but plenty of non-billiards hanging out as well. Ji
 llian's has some great appetizers, sandwiches and a full bar.\n\nHow t
 o find us: 2nd Floor - walk to the back past the bar, towards the pool
  tables.\n\nRSVP at www.sojust.org - Newcomers always welcomed!\n\nEve
 nt fee: $12.00 -- includes 2 hrs of pool\n\nSo look no further if you 
 want to cross-promote your events and campaigns while avoiding hitting
  the 8 ball, are seeking like-minded progressives to play pool with in
  Boston, or are new to the area and looking for groups to get involved
  in. If you want to build a strong cross-issue social justice movement
 , SoJust is for you!\n\nYES, WE MEAN YOU. We've got members of all age
 s, races, genders, sexual orientations, levels of activism and profess
 ions. We hope you see someone like yourself and meet someone you other
 wise wouldn't have.\n\nHEY ORGANIZERS! If you're involved with a group
  or project and want to spread the word bring flyers - there'll be lot
 s of opportunity to schmooze and network!\n\n* 18+, must be 21 to drin
 k (bring ID). Venue is physically accessible. *\n\n*Jillian’s is loc
 ated at 145 Ipswitch St, Boston. Take the Green line to Kenmore Square
 , bear left onto Brookline Avenue, take the second left onto Lansdowne
  Street, at the end of the street make a left onto Ipswich Street - yo
 u will see the entrance on the left hand side.\nSocializing for Justic
 e - www.sojust.org\nSince 2006, we've been building this great sandbox
  where we can bring progressives of all stripes together and try out n
 ew ideas in this \"Movement Moment\". Spaces like this are crucial as 
 we start to reframe and build new visions for our movement(s).\n\nWith
  over 1650 members and 4+ years of creating a diverse cross-issue comm
 unity in Boston, Socializing for Justice is the best place to find the
  great people, organizations and community you're looking for while pu
 tting the SOCIAL back in social justice.\n\nYES, WE MEAN YOU. We've go
 t members of all ages, races, genders, sexual orientations, levels of 
 activism and professions. We hope you see someone like yourself and me
 et someone you otherwise wouldn't have.\n\nWant to know more about SoJ
 ust? Check out our Frequently Asked Questions and past event photos.\n
 \nFollow us on Twitter: @SoJust, and @RobbieSamuels (SoJust Co-Founder
 ).\n\nFor more information visit http://neighborsforneighbors.org/even
 ts/billiards-for-justice
DTSTART:20110318T220000Z
DTEND:20110319T000000Z
CATEGORIES:social, networking, mixer, progressive
LOCATION:Jillian's
WEBSITE:http://sojust.org
URL:http://sojust.org
CONTACT:
ORGANIZER;CN="Socializing for Justice":http://neighborsforneighbors.or
 g/profile/SocializingforJustice71
ATTACH;FMTTYPE="image/jpeg":http://storage.ning.com/topology/rest/1.0/
 file/get/2245132207?profile=original
ATTENDEE;ROLE=REQ-PARTICIPANT;PARTSTAT=ACCEPTED;RSVP=TRUE;CN=Alison:ht
 tp://neighborsforneighbors.org/profile/Alison
ATTENDEE;ROLE=REQ-PARTICIPANT;PARTSTAT=ACCEPTED;RSVP=TRUE;CN="Socializ
 ing for Justice":http://neighborsforneighbors.org/profile/Socializingf
 orJustice71
END:VEVENT
END:VCALENDAR
