BEGIN:VCALENDAR
PRODID:NingEventWidget-v1
VERSION:2.0
METHOD:PUBLISH
BEGIN:VEVENT
UID:1171189:Event:93347
DTSTAMP:20260421T190056Z
SUMMARY:Birth And Beyond of Jamaica Plain - OPEN HOUSE
DESCRIPTION:Please come to our open house Sunday February 10th from 2-
 5pm. Meet the Birth and Beyond Team, have some light refreshments, lea
 rn about reiki, HypnoBirthing®, birthing from within, doula services,
  and MORE! Families, birth professionals, local businesses are all wel
 come!\nhttp://www.facebook.com/BirthAndBeyondOfJP\nwww.birthandbeyondJ
 P.com\n\nFor more information visit http://neighborsforneighbors.org/e
 vents/birth-and-beyond-of-jamaica-plain-open-house
DTSTART:20130210T190000Z
DTEND:20130210T220000Z
CATEGORIES:meet, and, greet, open, house
LOCATION:Birth And Beyond of Jamaica Plain
WEBSITE:http://www.birthandbeyondjp.com
URL:http://www.birthandbeyondjp.com
CONTACT:
ORGANIZER:Birth and Beyond of JP
ATTACH;FMTTYPE="image/jpeg":
ATTENDEE;ROLE=REQ-PARTICIPANT;PARTSTAT=ACCEPTED;RSVP=TRUE;CN="Christin
 e Fischer-Rothman":http://neighborsforneighbors.org/profile/ChristineF
 ischerRothman
END:VEVENT
END:VCALENDAR
