BEGIN:VCALENDAR
PRODID:NingEventWidget-v1
VERSION:2.0
METHOD:PUBLISH
BEGIN:VEVENT
UID:1171189:Event:89922
DTSTAMP:20260421T191850Z
SUMMARY:Birthing From Within Childbirth Preparation Classes
DESCRIPTION:Birthing From Within Childbirth Classes in Jamaica Plain/B
 oston\n\nCome for a fun and stimulating learning experience through li
 vely discussions, creative and experiential exercises and eye-opening
  activities. You will uncover your own best ways to cope with the u
 nknown of labor and birth and beyond.\nAll are welcome, whether you pl
 an to give birth in the hospital or at home, natural or medicated.\nBu
 ild a pain coping mindset. One fourth or more of each class is devote
 d to exploring and practicing different pain coping strategies. Partne
 rs try out and practice together what kind of support works best for t
 hem\nWant a birth preparation class which actively involves your partn
 er?  We will celebrate you and your partners’ transition to parent
 hood, and give you two plenty of time and opportunities to explore you
 r ideas of birth and postpartum together.  We share practical tips fo
 r coping – for both of you.  \nBirth is just the Beginning:  We w
 ill prepare for a smooth transition and adjustment after birth.\n\nSI
 GN UP NOW\nfor 6 week class series starting Wednesday, October 24, 6:3
 0 to 9pm\nfor 3 Sunday class series starting December 2, 9:30am to 3pm
 \n($280 per couple, class size 3-5 couples) \nfor 6 week class series
  starting Wednesday, January 2 2013, 6:30 to 9pm\n($300 per couple, cl
 ass size 3-5 couples) \nChristine Fischer-Rothman,  BIRTHING FROM WI
 THIN™ Mentor , Birth Story Listening, Postpartum Doula       
       \n jpbirthingclasses@yahoo.com    \n  Tel 617 447 84
 11                                  
     www.BFWNewEngland.com \nAbout me: I have a life long passion 
 for everything around birth, newborns and forming a new family, and ex
 plored this in my professional life from multiple angles over the last
  20 years. I am a mother of two boys and live in Jamaica Plain. \nWha
 t class participants say about me and my classes:\nA Mother: “Beyond
  basic practical info, we delved into the emotional aspects of birthin
 g, becoming a parent. An amazing combination and very powerful. The se
 tting also felt completely comfortable, non-judging, safe for all ques
 tions.\"\nA Father: “The class started a lot of conversations with 
 my partner that needed to happen. It has made us feel closer.”\nA Mo
 ther:  “Christine was a great facilitator and really knew how to e
 ngage us in the class.  She asked great questions!” \nA Father: 
 A truly phenominal experience of growing closer as a couple and more 
 confident and empowered to fully embrace our Birthing Journey.”\nA M
 other: “I feel really well informed and  equipped going into our la
 bor. The time went by so quickly, and Christine did a fantastic job to
  covering as much materials as possible, without being superficial in 
 the way we discussed the subjects.\n\nFor more information visit http:
 //neighborsforneighbors.org/events/birthing-from-within-childbirth-pre
 paration-classes
DTSTART:20121024T223000Z
DTEND:20121206T020000Z
CATEGORIES:childbirth, class, prenatal, education, pregnancy
LOCATION:Birth and Beyond of Jamaica Plain
WEBSITE:http://www.BFWNewEngland.com
URL:http://www.BFWNewEngland.com
CONTACT:6174478411
ORGANIZER;CN="Christine Fischer-Rothman":http://neighborsforneighbors.
 org/profile/ChristineFischerRothman
ATTACH;FMTTYPE="image/jpeg":
ATTENDEE;ROLE=REQ-PARTICIPANT;PARTSTAT=ACCEPTED;RSVP=TRUE;CN="Christin
 e Fischer-Rothman":http://neighborsforneighbors.org/profile/ChristineF
 ischerRothman
END:VEVENT
END:VCALENDAR
